BEGIN:VCALENDAR
VERSION:2.0
PRODID:-//Provident Charter Schools - ECPv6.15.13//NONSGML v1.0//EN
CALSCALE:GREGORIAN
METHOD:PUBLISH
X-WR-CALNAME:Provident Charter Schools
X-ORIGINAL-URL:https://www.providentcharterschool.org
X-WR-CALDESC:Events for Provident Charter Schools
REFRESH-INTERVAL;VALUE=DURATION:PT1H
X-Robots-Tag:noindex
X-PUBLISHED-TTL:PT1H
BEGIN:VTIMEZONE
TZID:America/New_York
BEGIN:DAYLIGHT
TZOFFSETFROM:-0500
TZOFFSETTO:-0400
TZNAME:EDT
DTSTART:20220313T070000
END:DAYLIGHT
BEGIN:STANDARD
TZOFFSETFROM:-0400
TZOFFSETTO:-0500
TZNAME:EST
DTSTART:20221106T060000
END:STANDARD
BEGIN:DAYLIGHT
TZOFFSETFROM:-0500
TZOFFSETTO:-0400
TZNAME:EDT
DTSTART:20230312T070000
END:DAYLIGHT
BEGIN:STANDARD
TZOFFSETFROM:-0400
TZOFFSETTO:-0500
TZNAME:EST
DTSTART:20231105T060000
END:STANDARD
BEGIN:DAYLIGHT
TZOFFSETFROM:-0500
TZOFFSETTO:-0400
TZNAME:EDT
DTSTART:20240310T070000
END:DAYLIGHT
BEGIN:STANDARD
TZOFFSETFROM:-0400
TZOFFSETTO:-0500
TZNAME:EST
DTSTART:20241103T060000
END:STANDARD
END:VTIMEZONE
BEGIN:VEVENT
DTSTART;TZID=America/New_York:20230815T074000
DTEND;TZID=America/New_York:20230815T154000
DTSTAMP:20260420T094650
CREATED:20230323T161146Z
LAST-MODIFIED:20230323T161146Z
UID:7206-1692085200-1692114000@www.providentcharterschool.org
SUMMARY:New Staff In-Service Day (No Students)
DESCRIPTION:
URL:https://www.providentcharterschool.org/event/new-staff-in-service-day-no-students/
END:VEVENT
BEGIN:VEVENT
DTSTART;TZID=America/New_York:20230816T074000
DTEND;TZID=America/New_York:20230816T154000
DTSTAMP:20260420T094650
CREATED:20230323T161246Z
LAST-MODIFIED:20230323T161246Z
UID:7207-1692171600-1692200400@www.providentcharterschool.org
SUMMARY:New Staff In-Service Day (No Students)
DESCRIPTION:
URL:https://www.providentcharterschool.org/event/new-staff-in-service-day-no-students-2/
END:VEVENT
BEGIN:VEVENT
DTSTART;TZID=America/New_York:20230817T074000
DTEND;TZID=America/New_York:20230817T154000
DTSTAMP:20260420T094650
CREATED:20230323T161246Z
LAST-MODIFIED:20230323T161246Z
UID:7208-1692258000-1692286800@www.providentcharterschool.org
SUMMARY:Staff In-Service Day (No Students)
DESCRIPTION:
URL:https://www.providentcharterschool.org/event/staff-in-service-day-no-students/
END:VEVENT
BEGIN:VEVENT
DTSTART;TZID=America/New_York:20230818T074000
DTEND;TZID=America/New_York:20230818T154000
DTSTAMP:20260420T094650
CREATED:20230323T161246Z
LAST-MODIFIED:20230323T161246Z
UID:7209-1692344400-1692373200@www.providentcharterschool.org
SUMMARY:Staff In-Service Day (No Students)
DESCRIPTION:
URL:https://www.providentcharterschool.org/event/staff-in-service-day-no-students-2/
END:VEVENT
BEGIN:VEVENT
DTSTART;TZID=America/New_York:20230821T074000
DTEND;TZID=America/New_York:20230821T154000
DTSTAMP:20260420T094650
CREATED:20230323T161247Z
LAST-MODIFIED:20230323T161247Z
UID:7210-1692603600-1692632400@www.providentcharterschool.org
SUMMARY:Staff In-Service Day (No Students)
DESCRIPTION:
URL:https://www.providentcharterschool.org/event/staff-in-service-day-no-students-3/
END:VEVENT
BEGIN:VEVENT
DTSTART;TZID=America/New_York:20230821T180000
DTEND;TZID=America/New_York:20230821T200000
DTSTAMP:20260420T094650
CREATED:20230323T161247Z
LAST-MODIFIED:20230817T194220Z
UID:7211-1692640800-1692648000@www.providentcharterschool.org
SUMMARY:Back to School Information Night
DESCRIPTION:
URL:https://www.providentcharterschool.org/event/back-to-school-information-night-2/
END:VEVENT
BEGIN:VEVENT
DTSTART;TZID=America/New_York:20230822T074000
DTEND;TZID=America/New_York:20230822T154000
DTSTAMP:20260420T094650
CREATED:20230323T161347Z
LAST-MODIFIED:20230323T161347Z
UID:7212-1692690000-1692718800@www.providentcharterschool.org
SUMMARY:Staff In-Service Day (No Students)
DESCRIPTION:
URL:https://www.providentcharterschool.org/event/staff-in-service-day-no-students-4/
END:VEVENT
BEGIN:VEVENT
DTSTART;VALUE=DATE:20230823
DTEND;VALUE=DATE:20230824
DTSTAMP:20260420T094650
CREATED:20230323T162232Z
LAST-MODIFIED:20230323T162232Z
UID:7251-1692748800-1692835199@www.providentcharterschool.org
SUMMARY:First Day of School
DESCRIPTION:
URL:https://www.providentcharterschool.org/event/first-day-of-school-4/
END:VEVENT
BEGIN:VEVENT
DTSTART;VALUE=DATE:20230823
DTEND;VALUE=DATE:20230824
DTSTAMP:20260420T094650
CREATED:20230731T120421Z
LAST-MODIFIED:20230731T120421Z
UID:7518-1692748800-1692835199@www.providentcharterschool.org
SUMMARY:Day 1
DESCRIPTION:
URL:https://www.providentcharterschool.org/event/day-1-32/
END:VEVENT
BEGIN:VEVENT
DTSTART;VALUE=DATE:20230824
DTEND;VALUE=DATE:20230825
DTSTAMP:20260420T094650
CREATED:20230731T120421Z
LAST-MODIFIED:20230731T120421Z
UID:7519-1692835200-1692921599@www.providentcharterschool.org
SUMMARY:Day 2
DESCRIPTION:
URL:https://www.providentcharterschool.org/event/day-2-32/
END:VEVENT
BEGIN:VEVENT
DTSTART;VALUE=DATE:20230825
DTEND;VALUE=DATE:20230826
DTSTAMP:20260420T094650
CREATED:20230731T120422Z
LAST-MODIFIED:20230731T120422Z
UID:7520-1692921600-1693007999@www.providentcharterschool.org
SUMMARY:Day 3
DESCRIPTION:
URL:https://www.providentcharterschool.org/event/day-3-31/
END:VEVENT
BEGIN:VEVENT
DTSTART;VALUE=DATE:20230828
DTEND;VALUE=DATE:20230829
DTSTAMP:20260420T094650
CREATED:20230731T120422Z
LAST-MODIFIED:20230731T120422Z
UID:7521-1693180800-1693267199@www.providentcharterschool.org
SUMMARY:Day 4
DESCRIPTION:
URL:https://www.providentcharterschool.org/event/day-4-31/
END:VEVENT
BEGIN:VEVENT
DTSTART;VALUE=DATE:20230829
DTEND;VALUE=DATE:20230830
DTSTAMP:20260420T094650
CREATED:20230731T120423Z
LAST-MODIFIED:20230731T120423Z
UID:7522-1693267200-1693353599@www.providentcharterschool.org
SUMMARY:Day 5
DESCRIPTION:
URL:https://www.providentcharterschool.org/event/day-5-31/
END:VEVENT
BEGIN:VEVENT
DTSTART;VALUE=DATE:20230830
DTEND;VALUE=DATE:20230831
DTSTAMP:20260420T094650
CREATED:20230731T120427Z
LAST-MODIFIED:20230731T120427Z
UID:7523-1693353600-1693439999@www.providentcharterschool.org
SUMMARY:Day 6
DESCRIPTION:
URL:https://www.providentcharterschool.org/event/day-6-31/
END:VEVENT
BEGIN:VEVENT
DTSTART;VALUE=DATE:20230831
DTEND;VALUE=DATE:20230901
DTSTAMP:20260420T094650
CREATED:20230731T120427Z
LAST-MODIFIED:20230731T120427Z
UID:7524-1693440000-1693526399@www.providentcharterschool.org
SUMMARY:Day 1
DESCRIPTION:
URL:https://www.providentcharterschool.org/event/day-1-33/
END:VEVENT
BEGIN:VEVENT
DTSTART;VALUE=DATE:20230901
DTEND;VALUE=DATE:20230902
DTSTAMP:20260420T094650
CREATED:20230731T120427Z
LAST-MODIFIED:20230731T120427Z
UID:7525-1693526400-1693612799@www.providentcharterschool.org
SUMMARY:Day 2
DESCRIPTION:
URL:https://www.providentcharterschool.org/event/day-2-33/
END:VEVENT
BEGIN:VEVENT
DTSTART;VALUE=DATE:20230904
DTEND;VALUE=DATE:20230905
DTSTAMP:20260420T094650
CREATED:20230323T162233Z
LAST-MODIFIED:20230323T162233Z
UID:7252-1693785600-1693871999@www.providentcharterschool.org
SUMMARY:Labor Day - No School
DESCRIPTION:
URL:https://www.providentcharterschool.org/event/labor-day-no-school-3/
END:VEVENT
BEGIN:VEVENT
DTSTART;VALUE=DATE:20230905
DTEND;VALUE=DATE:20230906
DTSTAMP:20260420T094650
CREATED:20230323T162233Z
LAST-MODIFIED:20230323T162233Z
UID:7253-1693872000-1693958399@www.providentcharterschool.org
SUMMARY:21st Century After-School (Fall Session) Begins
DESCRIPTION:
URL:https://www.providentcharterschool.org/event/21st-century-after-school-fall-session-begins-3/
END:VEVENT
BEGIN:VEVENT
DTSTART;VALUE=DATE:20230905
DTEND;VALUE=DATE:20230906
DTSTAMP:20260420T094650
CREATED:20230731T120428Z
LAST-MODIFIED:20230731T120428Z
UID:7526-1693872000-1693958399@www.providentcharterschool.org
SUMMARY:Day 3
DESCRIPTION:
URL:https://www.providentcharterschool.org/event/day-3-32/
END:VEVENT
BEGIN:VEVENT
DTSTART;VALUE=DATE:20230906
DTEND;VALUE=DATE:20230907
DTSTAMP:20260420T094650
CREATED:20230731T120428Z
LAST-MODIFIED:20230731T120428Z
UID:7527-1693958400-1694044799@www.providentcharterschool.org
SUMMARY:Day 4
DESCRIPTION:
URL:https://www.providentcharterschool.org/event/day-4-32/
END:VEVENT
BEGIN:VEVENT
DTSTART;VALUE=DATE:20230907
DTEND;VALUE=DATE:20230908
DTSTAMP:20260420T094650
CREATED:20230731T120527Z
LAST-MODIFIED:20230731T120527Z
UID:7528-1694044800-1694131199@www.providentcharterschool.org
SUMMARY:Day 5
DESCRIPTION:
URL:https://www.providentcharterschool.org/event/day-5-32/
END:VEVENT
BEGIN:VEVENT
DTSTART;VALUE=DATE:20230908
DTEND;VALUE=DATE:20230909
DTSTAMP:20260420T094650
CREATED:20230323T162235Z
LAST-MODIFIED:20230323T162236Z
UID:7254-1694131200-1694217599@www.providentcharterschool.org
SUMMARY:Hispanic Heritage Month - Door Decorating Contest
DESCRIPTION:
URL:https://www.providentcharterschool.org/event/hispanic-heritage-month-door-decorating-contest-2/
END:VEVENT
BEGIN:VEVENT
DTSTART;VALUE=DATE:20230908
DTEND;VALUE=DATE:20230909
DTSTAMP:20260420T094650
CREATED:20230731T120527Z
LAST-MODIFIED:20230731T120527Z
UID:7529-1694131200-1694217599@www.providentcharterschool.org
SUMMARY:Day 6
DESCRIPTION:
URL:https://www.providentcharterschool.org/event/day-6-32/
END:VEVENT
BEGIN:VEVENT
DTSTART;VALUE=DATE:20230911
DTEND;VALUE=DATE:20230912
DTSTAMP:20260420T094650
CREATED:20230323T162235Z
LAST-MODIFIED:20230323T162236Z
UID:7255-1694390400-1694476799@www.providentcharterschool.org
SUMMARY:National Day of Service & Remembrance
DESCRIPTION:
URL:https://www.providentcharterschool.org/event/national-day-of-service-remembrance/
END:VEVENT
BEGIN:VEVENT
DTSTART;VALUE=DATE:20230911
DTEND;VALUE=DATE:20230912
DTSTAMP:20260420T094650
CREATED:20230731T120527Z
LAST-MODIFIED:20230731T120527Z
UID:7530-1694390400-1694476799@www.providentcharterschool.org
SUMMARY:Day 1
DESCRIPTION:
URL:https://www.providentcharterschool.org/event/day-1-34/
END:VEVENT
BEGIN:VEVENT
DTSTART;VALUE=DATE:20230912
DTEND;VALUE=DATE:20230913
DTSTAMP:20260420T094650
CREATED:20230731T120527Z
LAST-MODIFIED:20230731T120527Z
UID:7531-1694476800-1694563199@www.providentcharterschool.org
SUMMARY:Day 2
DESCRIPTION:
URL:https://www.providentcharterschool.org/event/day-2-34/
END:VEVENT
BEGIN:VEVENT
DTSTART;VALUE=DATE:20230913
DTEND;VALUE=DATE:20230914
DTSTAMP:20260420T094650
CREATED:20230731T120527Z
LAST-MODIFIED:20230731T120527Z
UID:7532-1694563200-1694649599@www.providentcharterschool.org
SUMMARY:Day 3
DESCRIPTION:
URL:https://www.providentcharterschool.org/event/day-3-33/
END:VEVENT
BEGIN:VEVENT
DTSTART;TZID=America/New_York:20230913T180000
DTEND;TZID=America/New_York:20230913T200000
DTSTAMP:20260420T094650
CREATED:20230323T161347Z
LAST-MODIFIED:20230911T140810Z
UID:7213-1694628000-1694635200@www.providentcharterschool.org
SUMMARY:Meet the Teacher Night (Grades 2-5)
DESCRIPTION:
URL:https://www.providentcharterschool.org/event/meet-the-teacher-night-grades-2-5/
END:VEVENT
BEGIN:VEVENT
DTSTART;TZID=America/New_York:20230913T180000
DTEND;TZID=America/New_York:20230913T200000
DTSTAMP:20260420T094650
CREATED:20230730T204528Z
LAST-MODIFIED:20230911T140613Z
UID:7515-1694628000-1694635200@www.providentcharterschool.org
SUMMARY:Grades 1-4 Meet the Teacher Night - PCS West
DESCRIPTION:Date: Wednesday\, September 13th\nTime: 6:30-8:00\nLocation: 200 Quigley Drive\, Baden\, PA 15005\nOverview: This is an exciting opportunity for families to meet their child’s teachers to hear about their classroom routines\, procedures\, and expectations. Come join PCS teachers and staff to learn more about what your child will be learning this upcoming school year.
URL:https://www.providentcharterschool.org/event/grades-1-4-meet-the-teacher-night/
END:VEVENT
BEGIN:VEVENT
DTSTART;VALUE=DATE:20230914
DTEND;VALUE=DATE:20230915
DTSTAMP:20260420T094650
CREATED:20230731T120728Z
LAST-MODIFIED:20230731T120728Z
UID:7533-1694649600-1694735999@www.providentcharterschool.org
SUMMARY:Day 4
DESCRIPTION:
URL:https://www.providentcharterschool.org/event/day-4-33/
END:VEVENT
END:VCALENDAR