BEGIN:VCALENDAR
VERSION:2.0
PRODID:-//Provident Charter Schools - ECPv6.15.13//NONSGML v1.0//EN
CALSCALE:GREGORIAN
METHOD:PUBLISH
X-WR-CALNAME:Provident Charter Schools
X-ORIGINAL-URL:https://www.providentcharterschool.org
X-WR-CALDESC:Events for Provident Charter Schools
REFRESH-INTERVAL;VALUE=DURATION:PT1H
X-Robots-Tag:noindex
X-PUBLISHED-TTL:PT1H
BEGIN:VTIMEZONE
TZID:America/New_York
BEGIN:DAYLIGHT
TZOFFSETFROM:-0500
TZOFFSETTO:-0400
TZNAME:EDT
DTSTART:20240310T070000
END:DAYLIGHT
BEGIN:STANDARD
TZOFFSETFROM:-0400
TZOFFSETTO:-0500
TZNAME:EST
DTSTART:20241103T060000
END:STANDARD
BEGIN:DAYLIGHT
TZOFFSETFROM:-0500
TZOFFSETTO:-0400
TZNAME:EDT
DTSTART:20250309T070000
END:DAYLIGHT
BEGIN:STANDARD
TZOFFSETFROM:-0400
TZOFFSETTO:-0500
TZNAME:EST
DTSTART:20251102T060000
END:STANDARD
BEGIN:DAYLIGHT
TZOFFSETFROM:-0500
TZOFFSETTO:-0400
TZNAME:EDT
DTSTART:20260308T070000
END:DAYLIGHT
BEGIN:STANDARD
TZOFFSETFROM:-0400
TZOFFSETTO:-0500
TZNAME:EST
DTSTART:20261101T060000
END:STANDARD
BEGIN:DAYLIGHT
TZOFFSETFROM:-0500
TZOFFSETTO:-0400
TZNAME:EDT
DTSTART:20270314T070000
END:DAYLIGHT
BEGIN:STANDARD
TZOFFSETFROM:-0400
TZOFFSETTO:-0500
TZNAME:EST
DTSTART:20271107T060000
END:STANDARD
END:VTIMEZONE
BEGIN:VEVENT
DTSTART;VALUE=DATE:20251224
DTEND;VALUE=DATE:20260102
DTSTAMP:20260422T112857
CREATED:20250915T174833Z
LAST-MODIFIED:20250915T174833Z
UID:9789-1766534400-1767311999@www.providentcharterschool.org
SUMMARY:Winter Break - No School
DESCRIPTION:
URL:https://www.providentcharterschool.org/event/winter-break-no-school-16/
END:VEVENT
BEGIN:VEVENT
DTSTART;VALUE=DATE:20260102
DTEND;VALUE=DATE:20260103
DTSTAMP:20260422T112857
CREATED:20250915T174834Z
LAST-MODIFIED:20250915T174834Z
UID:9790-1767312000-1767398399@www.providentcharterschool.org
SUMMARY:Half-Day Staff In-Service Day\, Half-Day Staff Clerical Day (No Students)
DESCRIPTION:
URL:https://www.providentcharterschool.org/event/half-day-staff-in-service-day-half-day-staff-clerical-day-no-students/
END:VEVENT
BEGIN:VEVENT
DTSTART;VALUE=DATE:20260105
DTEND;VALUE=DATE:20260106
DTSTAMP:20260422T112857
CREATED:20250915T174835Z
LAST-MODIFIED:20250915T174835Z
UID:9791-1767571200-1767657599@www.providentcharterschool.org
SUMMARY:Students Return After Winter Break
DESCRIPTION:
URL:https://www.providentcharterschool.org/event/students-return-after-winter-break/
END:VEVENT
BEGIN:VEVENT
DTSTART;TZID=America/New_York:20260107T100000
DTEND;TZID=America/New_York:20260107T110000
DTSTAMP:20260422T112857
CREATED:20260106T193611Z
LAST-MODIFIED:20260106T194805Z
UID:9962-1767780000-1767783600@www.providentcharterschool.org
SUMMARY:Monthly Meet-up (Virtual)
DESCRIPTION:Monthly Meet-up (Virtual)\n \n\nDate: Wednesday\, January 7\, 2026\nTime: 10:00 am – 11:00 am\n\nOverview: During January’s meet-up\, Ms. Amanda Pinto and Ms. Meghan Bryte will share how both schools are building positive school culture through spirit initiatives\, student council\, house events\, traditions\, and annual celebrations. PCS Central has had the opportunity to grow many of these traditions over the years\, and PCS West is excited to both carry them forward and create new ones of its own. These sessions are designed to give families an inside look at how our team supports students and advances the mission of Provident Charter Schools. They are relaxed\, informative opportunities to connect\, ask questions\, and stay engaged in your child’s school community.\nMeeting Link: https://us06web.zoom.us/j/82790825865?pwd=AG75ZMlas5NPDjaej2MRtp6WcdyinT.1\nMeeting ID: 827 9082 5865
URL:https://www.providentcharterschool.org/event/monthly-meet-up-virtual-2/
END:VEVENT
BEGIN:VEVENT
DTSTART;VALUE=DATE:20260116
DTEND;VALUE=DATE:20260117
DTSTAMP:20260422T112857
CREATED:20250915T174835Z
LAST-MODIFIED:20250915T174835Z
UID:9792-1768521600-1768607999@www.providentcharterschool.org
SUMMARY:Half-Day Staff Clerical Day/End of Quarter 2
DESCRIPTION:
URL:https://www.providentcharterschool.org/event/half-day-staff-clerical-day-end-of-quarter-2/
END:VEVENT
BEGIN:VEVENT
DTSTART;VALUE=DATE:20260119
DTEND;VALUE=DATE:20260120
DTSTAMP:20260422T112857
CREATED:20250915T174845Z
LAST-MODIFIED:20250915T174845Z
UID:9793-1768780800-1768867199@www.providentcharterschool.org
SUMMARY:Dr. Martin Luther King Jr. Day - No School
DESCRIPTION:
URL:https://www.providentcharterschool.org/event/dr-martin-luther-king-jr-day-no-school-3/
END:VEVENT
BEGIN:VEVENT
DTSTART;TZID=America/New_York:20260202T190000
DTEND;TZID=America/New_York:20260202T200000
DTSTAMP:20260422T112857
CREATED:20260115T205355Z
LAST-MODIFIED:20260115T210015Z
UID:9977-1770058800-1770062400@www.providentcharterschool.org
SUMMARY:Online Safety Presentation
DESCRIPTION:Online Safety Presentation\nVirtual \n\n\n\nGuest Presenter: Ryan Klingensmith from Shape the Sky\nDate: Monday\, February 2\, 2026\nTime: 7:00pm – 8:00pm\nLocation: Virtual\nOverview: During this virtual presentation\, Mr. Klingensmith will guide participants on how to support children in using smartphones\, social media\, and artificial intelligence in safe\, responsible\, and thoughtful ways. He will offer an inside look at the digital world kids live in today\, helping you feel more confident and prepared to talk about these topics with them effectively.\nRegistration Link: https://us06web.zoom.us/j/81252376502?pwd=mgKqYVTVBMQQad42DaXtl87U9nhcjs.1 
URL:https://www.providentcharterschool.org/event/online-safety-presentation-monday-february-2-2026/
END:VEVENT
BEGIN:VEVENT
DTSTART;TZID=America/New_York:20260204T100000
DTEND;TZID=America/New_York:20260204T110000
DTSTAMP:20260422T112857
CREATED:20260120T164553Z
LAST-MODIFIED:20260204T132816Z
UID:9983-1770199200-1770202800@www.providentcharterschool.org
SUMMARY:Monthly Meet-up (Virtual)
DESCRIPTION:Monthly Meet-up\nVirtual \n\n\n\nDate: Wednesday\, February 4th\, 2026\nTime: 10:00am – 11:00am\nOverview: Join us for a virtual information session where our Math and ELA Curriculum Coordinators will walk families through the instructional programs and interventions used at Provident Charter Schools. This event will provide an overview of our core curricula\, including how we teach reading\, writing\, and math\, as well as the targeted interventions that support students with dyslexia and other language-based learning differences.\nFamilies will learn what these programs look like in practice\, how students move through them over time\, and how our team uses data\, small-group instruction\, and individualized supports to help each child grow. This is a great opportunity to gain insight into the “why” and “how” behind our instruction and to strengthen the partnership between home and school.\nMeet Link: https://us06web.zoom.us/j/82790825865?pwd=AG75ZMlas5NPDjaej2MRtp6WcdyinT.1\nMeeting ID: 827 9082 5865\nPasscode: 4KYeA6
URL:https://www.providentcharterschool.org/event/monthly-meet-up-virtual-wednesday-february-4th-2026/
END:VEVENT
BEGIN:VEVENT
DTSTART;TZID=America/New_York:20260212T180000
DTEND;TZID=America/New_York:20260212T190000
DTSTAMP:20260422T112857
CREATED:20260106T213008Z
LAST-MODIFIED:20260106T213008Z
UID:9964-1770919200-1770922800@www.providentcharterschool.org
SUMMARY:Valentine’s Cake Decorating Night
DESCRIPTION:Valentine’s Cake Decorating Night\nPCS West \n\n\n\nDate: Thursday\, February 12\, 2026\nTime: 6:00pm – 7:00pm\nLocation: PCS West 200 Quigley Drive\, Baden PA 15005\nOverview: Join us for a fun and festive Valentine’s Cake Decorating Night! hosted in partnership with The Baker’s Dozen Academy. Families will work together to decorate sweet Valentine-themed treats with guidance from professional bakers. Each registered family will receive one heart-shaped cake to decorate together\, and each student in the family will also receive their own cupcake to design and decorate.\nRegistration Link: https://forms.gle/g2Lg5dmgS5KD6rt58 
URL:https://www.providentcharterschool.org/event/monthly-meet-up-virtual-2-2/
LOCATION:Provident Charter School West\, 200 Quigley Drive\, Baden\, PA\, 15005
END:VEVENT
BEGIN:VEVENT
DTSTART;VALUE=DATE:20260213
DTEND;VALUE=DATE:20260214
DTSTAMP:20260422T112857
CREATED:20250915T174845Z
LAST-MODIFIED:20250915T174845Z
UID:9794-1770940800-1771027199@www.providentcharterschool.org
SUMMARY:Half-Day Staff In-Service Day
DESCRIPTION:
URL:https://www.providentcharterschool.org/event/half-day-staff-in-service-day-17/
END:VEVENT
BEGIN:VEVENT
DTSTART;VALUE=DATE:20260216
DTEND;VALUE=DATE:20260217
DTSTAMP:20260422T112857
CREATED:20250915T174846Z
LAST-MODIFIED:20250915T174846Z
UID:9795-1771200000-1771286399@www.providentcharterschool.org
SUMMARY:Presidents' Day - No School
DESCRIPTION:
URL:https://www.providentcharterschool.org/event/presidents-day-no-school-3/
END:VEVENT
BEGIN:VEVENT
DTSTART;VALUE=DATE:20260222
DTEND;VALUE=DATE:20260223
DTSTAMP:20260422T112857
CREATED:20260120T164823Z
LAST-MODIFIED:20260120T164823Z
UID:9984-1771718400-1771804799@www.providentcharterschool.org
SUMMARY:Musical: James & The Giant Peach\, Jr.
DESCRIPTION:Musical: James & The Giant Peach\, Jr.\n \n\n\n\nDate: Sunday\, February 22\, 2026\nTime: 12:00pm and 4:00pm\nLocation: Greater Pittsburgh Masonic Center 3579 Masonic Way\, Pittsburgh\, PA 15237\nOverview: James and the Giant Peach Jr. is a whimsical musical adventure based on Roald Dahl’s beloved story. When young James escapes his cruel aunts by climbing inside a magical giant peach\, he meets a group of extraordinary insect friends who help him journey across the ocean in search of a better life. Along the way\, James discovers courage\, friendship\, and the power of believing in himself. This family-friendly production celebrates resilience\, teamwork\, and the magic of imagination.\nTicket Link: https://cur8.com/26048/project/135314 
URL:https://www.providentcharterschool.org/event/monthly-meet-up-virtual-wednesday-february-4th-2026-2/
END:VEVENT
BEGIN:VEVENT
DTSTART;TZID=America/New_York:20260304T100000
DTEND;TZID=America/New_York:20260304T110000
DTSTAMP:20260422T112857
CREATED:20260227T195328Z
LAST-MODIFIED:20260227T195328Z
UID:10109-1772618400-1772622000@www.providentcharterschool.org
SUMMARY:Monthly Meet-up (Virtual)
DESCRIPTION:Date:  Wednesday\, March 4th\, 2026 \nTime: 10:00am – 11:00am \nMeeting Link: https://us06web.zoom.us/j/82790825865?pwd=AG75ZMlas5NPDjaej2MRtp6WcdyinT.1 \nMeeting ID: 827 9082 5865 Passcode: 4KYeA6 \nMarch Overview: Our March Monthly Meet-up will feature a presentation by Dr. Rachel Owens\, Director of Communications\, Operations\, and Stakeholder Engagement that is designed to give participants a look behind the scenes of Provident Charter Schools. From our founding story to our biggest upcoming initiatives\, this session is designed to keep you informed and involved. \nThe Highlights: \n\nOur history and the strategic goals driving our future.\nProvident Education Foundation and DyslexiaCampus.com.\nOur efforts for effective communication to our school community and beyond through email\, social media\, and our website.\nAn open forum for your feedback and suggestions on events\, outreach\, communication\, and more.
URL:https://www.providentcharterschool.org/event/monthly-meet-up-virtual-3/
END:VEVENT
BEGIN:VEVENT
DTSTART;VALUE=DATE:20260306
DTEND;VALUE=DATE:20260307
DTSTAMP:20260422T112857
CREATED:20250915T174846Z
LAST-MODIFIED:20250915T174846Z
UID:9796-1772755200-1772841599@www.providentcharterschool.org
SUMMARY:Half-Day Staff In-Service Day
DESCRIPTION:
URL:https://www.providentcharterschool.org/event/half-day-staff-in-service-day-18/
END:VEVENT
BEGIN:VEVENT
DTSTART;TZID=America/New_York:20260309T080000
DTEND;TZID=America/New_York:20260313T150000
DTSTAMP:20260422T112857
CREATED:20260227T195708Z
LAST-MODIFIED:20260227T195708Z
UID:10110-1773043200-1773414000@www.providentcharterschool.org
SUMMARY:Book Fair PCSW
DESCRIPTION:Date: \n\n\n\nPCS West March 9-March 13\n\n\n\nOverview:  \n\n\n\nPCS West Scholastic Link
URL:https://www.providentcharterschool.org/event/book-fair-pcsw/
END:VEVENT
BEGIN:VEVENT
DTSTART;TZID=America/New_York:20260312T180000
DTEND;TZID=America/New_York:20260312T193000
DTSTAMP:20260422T112857
CREATED:20260227T200037Z
LAST-MODIFIED:20260227T200037Z
UID:10112-1773338400-1773343800@www.providentcharterschool.org
SUMMARY:MATH-A-PALOOZA - PCS Central
DESCRIPTION:Date:  Thursday\, March 12\, 2026 \nTime: 6:00pm-7:30pm \nLocation: PCS Central \nOverview:  Are you ready to see math in a whole new light? We invite all PCS families to join us for Math-A-Palooza\, an interactive evening designed to prove that math is more than just equations\, it’s games\, art\, and discovery! \nRegistration Link: https://forms.gle/542ZQtiu3oZvxyjJ7
URL:https://www.providentcharterschool.org/event/math-a-palooza-pcs-central/
END:VEVENT
BEGIN:VEVENT
DTSTART;TZID=America/New_York:20260318T113000
DTEND;TZID=America/New_York:20260318T130000
DTSTAMP:20260422T112857
CREATED:20260227T200237Z
LAST-MODIFIED:20260227T200237Z
UID:10113-1773833400-1773838800@www.providentcharterschool.org
SUMMARY:PCS West Family Luncheon
DESCRIPTION:Date: Wednesday\, March 18\, 2026\nTime:\n\n\n\nFirst Lunch Grades 2\, 3\, & 4 – 11:45\nSecond Lunch Grades 5 & 6 – 12:25\n\n\n\n\nLocation: PCS West 200 Quigley Drive\, Baden PA 15005\nOverview: We are excited to invite parents and guardians to join us on campus for our upcoming Family Luncheon\, a special opportunity to share a meal with your child during the school day. This luncheon also serves as a fundraiser for our school cafeteria\, helping us support meal programs\, supplies\, and special food-related initiatives for our students.\nFamilies may choose to bring their own lunch for a $5 participation fee or purchase a school lunch for $8. Our lunch options will include chicken caesar salad or beef and broccoli.\nDue to space and capacity limitations\, each student may invite one family member or guardian to attend.\nPayment Link: https://weblink.donorperfect.com/lunch2026
URL:https://www.providentcharterschool.org/event/pcs-west-family-luncheon/
END:VEVENT
BEGIN:VEVENT
DTSTART;VALUE=DATE:20260320
DTEND;VALUE=DATE:20260321
DTSTAMP:20260422T112857
CREATED:20250915T174846Z
LAST-MODIFIED:20250915T174846Z
UID:9797-1773964800-1774051199@www.providentcharterschool.org
SUMMARY:Half-Day Staff Clerical Day/End of Quarter 3
DESCRIPTION:
URL:https://www.providentcharterschool.org/event/half-day-staff-clerical-day-end-of-quarter-3/
END:VEVENT
BEGIN:VEVENT
DTSTART;TZID=America/New_York:20260321T090000
DTEND;TZID=America/New_York:20260321T170000
DTSTAMP:20260422T112857
CREATED:20260227T200609Z
LAST-MODIFIED:20260227T200609Z
UID:10115-1774083600-1774112400@www.providentcharterschool.org
SUMMARY:Free Homebuyer Workshop – Open to the public
DESCRIPTION:Date:  Saturday\, March 21\, 2026 \nTime: 9:00am-5:00pm \nLocation: PCS Central \nOverview:  NeighborWorks Western Pennsylvania is hosting a full-day workshop designed to provide participants with the knowledge and tools they need to begin their path to homeownership. Alight breakfast and lunch for participants. \nRegistration Link: https://ProvidentcharterschoolcentralandNWWPA.eventbrite.com
URL:https://www.providentcharterschool.org/event/free-homebuyer-workshop-open-to-the-public/
END:VEVENT
BEGIN:VEVENT
DTSTART;TZID=America/New_York:20260321T120000
DTEND;TZID=America/New_York:20260321T150000
DTSTAMP:20260422T112857
CREATED:20260227T200434Z
LAST-MODIFIED:20260227T200434Z
UID:10114-1774094400-1774105200@www.providentcharterschool.org
SUMMARY:3rd Annual Health & Wellness Fair- Open to the Public
DESCRIPTION:Date:  Saturday\, March 21\, 2026 \nTime:  12:00pm -3:00pm \nLocation: PCS West 200 Quigley Drive\, Baden\, PA 15005 \nOverview:  The Health and Wellness Services Fair is an engaging and informative event dedicated to promoting overall well-being and fostering a healthy lifestyle. Held in a vibrant and welcoming atmosphere\, the fair aims to bring together a range of health professionals\, wellness experts\, and community members – all from Beaver County. Attendees will have the opportunity to explore each table in a college-fair style set-up . There is no cost to attend nor to be a vendor.
URL:https://www.providentcharterschool.org/event/3rd-annual-health-wellness-fair-open-to-the-public/
END:VEVENT
BEGIN:VEVENT
DTSTART;TZID=America/New_York:20260323T080000
DTEND;TZID=America/New_York:20260327T150000
DTSTAMP:20260422T112857
CREATED:20260227T195837Z
LAST-MODIFIED:20260227T195837Z
UID:10111-1774252800-1774623600@www.providentcharterschool.org
SUMMARY:Book Fair Central
DESCRIPTION:Date: \n\n\n\nPCS Central March 23- March 27\n\n\n\nOverview: \n\n\n\nPCS Central Scholastic Link
URL:https://www.providentcharterschool.org/event/book-fair-central/
END:VEVENT
BEGIN:VEVENT
DTSTART;TZID=America/New_York:20260325T180000
DTEND;TZID=America/New_York:20260325T193000
DTSTAMP:20260422T112857
CREATED:20260227T200726Z
LAST-MODIFIED:20260227T200726Z
UID:10116-1774461600-1774467000@www.providentcharterschool.org
SUMMARY:Transition Fair for Students & Families in Grades 5-8
DESCRIPTION:Date:  Wednesday\, March 25\, 2026 \nTime: 6:00-7:30 \nLocation: PCS Central \nOverview:  Are you unsure of where your child will attend high school? There are many options in the Greater Pittsburgh Area and this event will highlight some of those options. \nRegistration Link: https://forms.gle/oUdwDZ4Ms6PDu33U
URL:https://www.providentcharterschool.org/event/transition-fair-for-students-families-in-grades-5-8-2/
END:VEVENT
BEGIN:VEVENT
DTSTART;VALUE=DATE:20260330
DTEND;VALUE=DATE:20260331
DTSTAMP:20260422T112857
CREATED:20250915T174903Z
LAST-MODIFIED:20250915T174903Z
UID:9798-1774828800-1774915199@www.providentcharterschool.org
SUMMARY:Staff Clerical Day (No Students)
DESCRIPTION:
URL:https://www.providentcharterschool.org/event/staff-clerical-day-no-students-3/
END:VEVENT
BEGIN:VEVENT
DTSTART;VALUE=DATE:20260331
DTEND;VALUE=DATE:20260401
DTSTAMP:20260422T112857
CREATED:20250915T174904Z
LAST-MODIFIED:20250915T174904Z
UID:9799-1774915200-1775001599@www.providentcharterschool.org
SUMMARY:Family/Teacher Conferences (No Students)
DESCRIPTION:
URL:https://www.providentcharterschool.org/event/family-teacher-conferences-no-students-3/
END:VEVENT
BEGIN:VEVENT
DTSTART;VALUE=DATE:20260401
DTEND;VALUE=DATE:20260407
DTSTAMP:20260422T112857
CREATED:20250915T174904Z
LAST-MODIFIED:20250915T174904Z
UID:9800-1775001600-1775519999@www.providentcharterschool.org
SUMMARY:Spring Break - No School
DESCRIPTION:
URL:https://www.providentcharterschool.org/event/spring-break-no-school-15/
END:VEVENT
BEGIN:VEVENT
DTSTART;TZID=America/New_York:20260416T180000
DTEND;TZID=America/New_York:20260416T203000
DTSTAMP:20260422T112857
CREATED:20260227T201030Z
LAST-MODIFIED:20260227T201030Z
UID:10117-1776362400-1776371400@www.providentcharterschool.org
SUMMARY:Dyslexia Simulation – Open To The Public
DESCRIPTION:Date:  Thursday\, April 16\, 2026 \nTime: 6:00pm – 8:30pm \nLocation: Provident Charter School West\, 200 Quigley Drive\, Baden\, PA 15005 \nOverview:  This powerful simulation will open your eyes to the daily struggles children can experience. It starts with a brief discussion of dyslexia\, including the neurological basis\, demographics\, warning signs\, and interventions. Participants will then take part in simulated activities that mimic the experiences and processing of those with dyslexia. A variety of topics are covered including reading\, spelling\, auditory processing\, visual motor\, and challenges with math computation. \nRegistration Link: https://forms.gle/XwHwgwe3jaNyGGUj7
URL:https://www.providentcharterschool.org/event/dyslexia-simulation-open-to-the-public/
END:VEVENT
BEGIN:VEVENT
DTSTART;VALUE=DATE:20260420
DTEND;VALUE=DATE:20260430
DTSTAMP:20260422T112857
CREATED:20250915T174904Z
LAST-MODIFIED:20250915T174904Z
UID:9801-1776643200-1777507199@www.providentcharterschool.org
SUMMARY:PSSA Testing Window (ELA 4/20-4/22\, Math 4/27-4/28\, Sci 4/29)
DESCRIPTION:
URL:https://www.providentcharterschool.org/event/pssa-testing-window-ela-4-20-4-22-math-4-27-4-28-sci-4-29/
END:VEVENT
BEGIN:VEVENT
DTSTART;TZID=America/New_York:20260430T180000
DTEND;TZID=America/New_York:20260430T210000
DTSTAMP:20260422T112857
CREATED:20260422T125502Z
LAST-MODIFIED:20260422T125502Z
UID:10719-1777572000-1777582800@www.providentcharterschool.org
SUMMARY:10 Year Celebration
DESCRIPTION:
URL:https://www.providentcharterschool.org/event/10-year-celebration/
END:VEVENT
BEGIN:VEVENT
DTSTART;VALUE=DATE:20260501
DTEND;VALUE=DATE:20260502
DTSTAMP:20260422T112857
CREATED:20250915T174905Z
LAST-MODIFIED:20250915T174905Z
UID:9802-1777593600-1777679999@www.providentcharterschool.org
SUMMARY:Half-Day Staff In-Service Day
DESCRIPTION:
URL:https://www.providentcharterschool.org/event/half-day-staff-in-service-day-19/
END:VEVENT
BEGIN:VEVENT
DTSTART;TZID=America/New_York:20260507T180000
DTEND;TZID=America/New_York:20260507T193000
DTSTAMP:20260422T112857
CREATED:20260227T202353Z
LAST-MODIFIED:20260227T202353Z
UID:10120-1778176800-1778182200@www.providentcharterschool.org
SUMMARY:PCS West Family STEAM Night
DESCRIPTION:Date: Thursday\, May 7\, 2026 \n\n\n\nTime: 6:00PM-7:30PM\nLocation: PCS West 200 Quigley Drive\, Baden PA 15005\nOverview: Come and join us for Family STEAM Night! Discover\, create\, and fuel your love for science\, technology\, engineering\, art\, and math with your loved ones. Delve into interactive experiences guided by PCS teachers and staff.*Activities are suitable for children ages 6 to 13\nRegistration Link: https://forms.gle/7d4EmK7A8xp98cv36
URL:https://www.providentcharterschool.org/event/pcs-west-family-steam-night/
END:VEVENT
END:VCALENDAR