BEGIN:VCALENDAR
VERSION:2.0
PRODID:-//Provident Charter Schools - ECPv6.15.13//NONSGML v1.0//EN
CALSCALE:GREGORIAN
METHOD:PUBLISH
X-WR-CALNAME:Provident Charter Schools
X-ORIGINAL-URL:https://www.providentcharterschool.org
X-WR-CALDESC:Events for Provident Charter Schools
REFRESH-INTERVAL;VALUE=DURATION:PT1H
X-Robots-Tag:noindex
X-PUBLISHED-TTL:PT1H
BEGIN:VTIMEZONE
TZID:America/New_York
BEGIN:DAYLIGHT
TZOFFSETFROM:-0500
TZOFFSETTO:-0400
TZNAME:EDT
DTSTART:20230312T070000
END:DAYLIGHT
BEGIN:STANDARD
TZOFFSETFROM:-0400
TZOFFSETTO:-0500
TZNAME:EST
DTSTART:20231105T060000
END:STANDARD
BEGIN:DAYLIGHT
TZOFFSETFROM:-0500
TZOFFSETTO:-0400
TZNAME:EDT
DTSTART:20240310T070000
END:DAYLIGHT
BEGIN:STANDARD
TZOFFSETFROM:-0400
TZOFFSETTO:-0500
TZNAME:EST
DTSTART:20241103T060000
END:STANDARD
BEGIN:DAYLIGHT
TZOFFSETFROM:-0500
TZOFFSETTO:-0400
TZNAME:EDT
DTSTART:20250309T070000
END:DAYLIGHT
BEGIN:STANDARD
TZOFFSETFROM:-0400
TZOFFSETTO:-0500
TZNAME:EST
DTSTART:20251102T060000
END:STANDARD
END:VTIMEZONE
BEGIN:VEVENT
DTSTART;VALUE=DATE:20240212
DTEND;VALUE=DATE:20240213
DTSTAMP:20260422T075306
CREATED:20230731T122956Z
LAST-MODIFIED:20230731T122957Z
UID:7622-1707696000-1707782399@www.providentcharterschool.org
SUMMARY:Day 3
DESCRIPTION:
URL:https://www.providentcharterschool.org/event/day-3-48/
END:VEVENT
BEGIN:VEVENT
DTSTART;VALUE=DATE:20240213
DTEND;VALUE=DATE:20240214
DTSTAMP:20260422T075306
CREATED:20230731T122956Z
LAST-MODIFIED:20230731T122957Z
UID:7623-1707782400-1707868799@www.providentcharterschool.org
SUMMARY:Day 4
DESCRIPTION:
URL:https://www.providentcharterschool.org/event/day-4-48/
END:VEVENT
BEGIN:VEVENT
DTSTART;VALUE=DATE:20240214
DTEND;VALUE=DATE:20240215
DTSTAMP:20260422T075306
CREATED:20230731T122956Z
LAST-MODIFIED:20230731T122957Z
UID:7624-1707868800-1707955199@www.providentcharterschool.org
SUMMARY:Day 5
DESCRIPTION:
URL:https://www.providentcharterschool.org/event/day-5-47/
END:VEVENT
BEGIN:VEVENT
DTSTART;VALUE=DATE:20240215
DTEND;VALUE=DATE:20240216
DTSTAMP:20260422T075306
CREATED:20230731T122956Z
LAST-MODIFIED:20230731T122957Z
UID:7625-1707955200-1708041599@www.providentcharterschool.org
SUMMARY:Day 6
DESCRIPTION:
URL:https://www.providentcharterschool.org/event/day-6-47/
END:VEVENT
BEGIN:VEVENT
DTSTART;VALUE=DATE:20240216
DTEND;VALUE=DATE:20240217
DTSTAMP:20260422T075306
CREATED:20230323T162638Z
LAST-MODIFIED:20230323T162638Z
UID:7278-1708041600-1708127999@www.providentcharterschool.org
SUMMARY:February Fitness Frenzy
DESCRIPTION:
URL:https://www.providentcharterschool.org/event/february-fitness-frenzy/
END:VEVENT
BEGIN:VEVENT
DTSTART;VALUE=DATE:20240216
DTEND;VALUE=DATE:20240217
DTSTAMP:20260422T075306
CREATED:20230731T123057Z
LAST-MODIFIED:20230731T123057Z
UID:7626-1708041600-1708127999@www.providentcharterschool.org
SUMMARY:Day 1
DESCRIPTION:
URL:https://www.providentcharterschool.org/event/day-1-49/
END:VEVENT
BEGIN:VEVENT
DTSTART;VALUE=DATE:20240216
DTEND;VALUE=DATE:20240217
DTSTAMP:20260422T075306
CREATED:20230815T190403Z
LAST-MODIFIED:20230815T190403Z
UID:7784-1708041600-1708127999@www.providentcharterschool.org
SUMMARY:PBIS Dress Down Day
DESCRIPTION:
URL:https://www.providentcharterschool.org/event/pbis-dress-down-day-25/
END:VEVENT
BEGIN:VEVENT
DTSTART;TZID=America/New_York:20240216T074000
DTEND;TZID=America/New_York:20240216T113000
DTSTAMP:20260422T075306
CREATED:20230323T161648Z
LAST-MODIFIED:20230323T161648Z
UID:7228-1708069200-1708083000@www.providentcharterschool.org
SUMMARY:Half-Day Staff In-Service Day(11:30 AM Dismissal for Students)
DESCRIPTION:
URL:https://www.providentcharterschool.org/event/half-day-staff-in-service-day1130-am-dismissal-for-students-6/
END:VEVENT
BEGIN:VEVENT
DTSTART;VALUE=DATE:20240219
DTEND;VALUE=DATE:20240220
DTSTAMP:20260422T075306
CREATED:20230323T162739Z
LAST-MODIFIED:20230323T162739Z
UID:7279-1708300800-1708387199@www.providentcharterschool.org
SUMMARY:Presidents' Day - No School
DESCRIPTION:
URL:https://www.providentcharterschool.org/event/presidents-day-no-school/
END:VEVENT
BEGIN:VEVENT
DTSTART;VALUE=DATE:20240220
DTEND;VALUE=DATE:20240221
DTSTAMP:20260422T075306
CREATED:20230731T123058Z
LAST-MODIFIED:20230731T123058Z
UID:7627-1708387200-1708473599@www.providentcharterschool.org
SUMMARY:Day 2
DESCRIPTION:
URL:https://www.providentcharterschool.org/event/day-2-49/
END:VEVENT
BEGIN:VEVENT
DTSTART;VALUE=DATE:20240221
DTEND;VALUE=DATE:20240222
DTSTAMP:20260422T075306
CREATED:20230731T123058Z
LAST-MODIFIED:20230731T123058Z
UID:7628-1708473600-1708559999@www.providentcharterschool.org
SUMMARY:Day 3
DESCRIPTION:
URL:https://www.providentcharterschool.org/event/day-3-49/
END:VEVENT
BEGIN:VEVENT
DTSTART;VALUE=DATE:20240222
DTEND;VALUE=DATE:20240223
DTSTAMP:20260422T075306
CREATED:20230731T123058Z
LAST-MODIFIED:20230731T123058Z
UID:7629-1708560000-1708646399@www.providentcharterschool.org
SUMMARY:Day 4
DESCRIPTION:
URL:https://www.providentcharterschool.org/event/day-4-49/
END:VEVENT
BEGIN:VEVENT
DTSTART;VALUE=DATE:20240223
DTEND;VALUE=DATE:20240224
DTSTAMP:20260422T075306
CREATED:20230731T123058Z
LAST-MODIFIED:20230731T123058Z
UID:7630-1708646400-1708732799@www.providentcharterschool.org
SUMMARY:Day 5
DESCRIPTION:
URL:https://www.providentcharterschool.org/event/day-5-48/
END:VEVENT
BEGIN:VEVENT
DTSTART;VALUE=DATE:20240226
DTEND;VALUE=DATE:20240227
DTSTAMP:20260422T075306
CREATED:20230731T123158Z
LAST-MODIFIED:20230731T123158Z
UID:7631-1708905600-1708991999@www.providentcharterschool.org
SUMMARY:Day 6
DESCRIPTION:
URL:https://www.providentcharterschool.org/event/day-6-48/
END:VEVENT
BEGIN:VEVENT
DTSTART;VALUE=DATE:20240226
DTEND;VALUE=DATE:20240302
DTSTAMP:20260422T075306
CREATED:20230323T162739Z
LAST-MODIFIED:20230323T162739Z
UID:7280-1708905600-1709337599@www.providentcharterschool.org
SUMMARY:Spring Book Fair
DESCRIPTION:
URL:https://www.providentcharterschool.org/event/spring-book-fair-12/
END:VEVENT
BEGIN:VEVENT
DTSTART;VALUE=DATE:20240227
DTEND;VALUE=DATE:20240228
DTSTAMP:20260422T075306
CREATED:20230731T123158Z
LAST-MODIFIED:20230731T123158Z
UID:7632-1708992000-1709078399@www.providentcharterschool.org
SUMMARY:Day 1
DESCRIPTION:
URL:https://www.providentcharterschool.org/event/day-1-50/
END:VEVENT
BEGIN:VEVENT
DTSTART;VALUE=DATE:20240228
DTEND;VALUE=DATE:20240229
DTSTAMP:20260422T075306
CREATED:20230731T123158Z
LAST-MODIFIED:20230731T123158Z
UID:7633-1709078400-1709164799@www.providentcharterschool.org
SUMMARY:Day 2
DESCRIPTION:
URL:https://www.providentcharterschool.org/event/day-2-50/
END:VEVENT
BEGIN:VEVENT
DTSTART;VALUE=DATE:20240229
DTEND;VALUE=DATE:20240301
DTSTAMP:20260422T075306
CREATED:20230323T162739Z
LAST-MODIFIED:20230323T162739Z
UID:7281-1709164800-1709251199@www.providentcharterschool.org
SUMMARY:Literary Luncheon - Cafe Transformation
DESCRIPTION:
URL:https://www.providentcharterschool.org/event/literary-luncheon-cafe-transformation-2/
END:VEVENT
BEGIN:VEVENT
DTSTART;VALUE=DATE:20240229
DTEND;VALUE=DATE:20240301
DTSTAMP:20260422T075306
CREATED:20230731T123158Z
LAST-MODIFIED:20230731T123158Z
UID:7634-1709164800-1709251199@www.providentcharterschool.org
SUMMARY:Day 3
DESCRIPTION:
URL:https://www.providentcharterschool.org/event/day-3-50/
END:VEVENT
BEGIN:VEVENT
DTSTART;VALUE=DATE:20240301
DTEND;VALUE=DATE:20240302
DTSTAMP:20260422T075306
CREATED:20230323T162739Z
LAST-MODIFIED:20230323T162739Z
UID:7282-1709251200-1709337599@www.providentcharterschool.org
SUMMARY:PBIS Trimester 2 Reward Day
DESCRIPTION:
URL:https://www.providentcharterschool.org/event/pbis-trimester-2-reward-day/
END:VEVENT
BEGIN:VEVENT
DTSTART;VALUE=DATE:20240301
DTEND;VALUE=DATE:20240302
DTSTAMP:20260422T075306
CREATED:20230731T123158Z
LAST-MODIFIED:20230731T123158Z
UID:7635-1709251200-1709337599@www.providentcharterschool.org
SUMMARY:Day 4
DESCRIPTION:
URL:https://www.providentcharterschool.org/event/day-4-50/
END:VEVENT
BEGIN:VEVENT
DTSTART;VALUE=DATE:20240301
DTEND;VALUE=DATE:20240302
DTSTAMP:20260422T075306
CREATED:20230815T190404Z
LAST-MODIFIED:20230815T190404Z
UID:7785-1709251200-1709337599@www.providentcharterschool.org
SUMMARY:PBIS Dress Down Day
DESCRIPTION:
URL:https://www.providentcharterschool.org/event/pbis-dress-down-day-26/
END:VEVENT
BEGIN:VEVENT
DTSTART;TZID=America/New_York:20240301T074000
DTEND;TZID=America/New_York:20240301T113000
DTSTAMP:20260422T075306
CREATED:20230323T161648Z
LAST-MODIFIED:20230323T161648Z
UID:7229-1709278800-1709292600@www.providentcharterschool.org
SUMMARY:Half-Day Staff In-Service Day(11:30 AM Dismissal for Students)
DESCRIPTION:
URL:https://www.providentcharterschool.org/event/half-day-staff-in-service-day1130-am-dismissal-for-students-7/
END:VEVENT
BEGIN:VEVENT
DTSTART;VALUE=DATE:20240304
DTEND;VALUE=DATE:20240305
DTSTAMP:20260422T075306
CREATED:20230731T123359Z
LAST-MODIFIED:20230731T123359Z
UID:7636-1709510400-1709596799@www.providentcharterschool.org
SUMMARY:Day 5
DESCRIPTION:
URL:https://www.providentcharterschool.org/event/day-5-49/
END:VEVENT
BEGIN:VEVENT
DTSTART;VALUE=DATE:20240305
DTEND;VALUE=DATE:20240306
DTSTAMP:20260422T075306
CREATED:20230731T123359Z
LAST-MODIFIED:20230731T123359Z
UID:7637-1709596800-1709683199@www.providentcharterschool.org
SUMMARY:Day 6
DESCRIPTION:
URL:https://www.providentcharterschool.org/event/day-6-49/
END:VEVENT
BEGIN:VEVENT
DTSTART;VALUE=DATE:20240306
DTEND;VALUE=DATE:20240307
DTSTAMP:20260422T075306
CREATED:20230731T123359Z
LAST-MODIFIED:20230731T123359Z
UID:7638-1709683200-1709769599@www.providentcharterschool.org
SUMMARY:Day 1
DESCRIPTION:
URL:https://www.providentcharterschool.org/event/day-1-51/
END:VEVENT
BEGIN:VEVENT
DTSTART;VALUE=DATE:20240307
DTEND;VALUE=DATE:20240308
DTSTAMP:20260422T075306
CREATED:20230323T162739Z
LAST-MODIFIED:20230323T162739Z
UID:7283-1709769600-1709855999@www.providentcharterschool.org
SUMMARY:End of 2nd Trimester
DESCRIPTION:
URL:https://www.providentcharterschool.org/event/end-of-2nd-trimester-3/
END:VEVENT
BEGIN:VEVENT
DTSTART;VALUE=DATE:20240307
DTEND;VALUE=DATE:20240308
DTSTAMP:20260422T075306
CREATED:20230731T123400Z
LAST-MODIFIED:20230731T123400Z
UID:7639-1709769600-1709855999@www.providentcharterschool.org
SUMMARY:Day 2
DESCRIPTION:
URL:https://www.providentcharterschool.org/event/day-2-51/
END:VEVENT
BEGIN:VEVENT
DTSTART;TZID=America/New_York:20240308T074000
DTEND;TZID=America/New_York:20240308T154000
DTSTAMP:20260422T075306
CREATED:20230323T161648Z
LAST-MODIFIED:20230323T161648Z
UID:7230-1709883600-1709912400@www.providentcharterschool.org
SUMMARY:End of 2nd Trimester - Staff Clerical Day (No Students)
DESCRIPTION:
URL:https://www.providentcharterschool.org/event/end-of-2nd-trimester-staff-clerical-day-no-students/
END:VEVENT
BEGIN:VEVENT
DTSTART;VALUE=DATE:20240311
DTEND;VALUE=DATE:20240312
DTSTAMP:20260422T075306
CREATED:20230731T123400Z
LAST-MODIFIED:20230731T123400Z
UID:7640-1710115200-1710201599@www.providentcharterschool.org
SUMMARY:Day 3
DESCRIPTION:
URL:https://www.providentcharterschool.org/event/day-3-51/
END:VEVENT
END:VCALENDAR