BEGIN:VCALENDAR
VERSION:2.0
PRODID:-//Provident Charter Schools - ECPv6.15.13//NONSGML v1.0//EN
CALSCALE:GREGORIAN
METHOD:PUBLISH
X-WR-CALNAME:Provident Charter Schools
X-ORIGINAL-URL:https://www.providentcharterschool.org
X-WR-CALDESC:Events for Provident Charter Schools
REFRESH-INTERVAL;VALUE=DURATION:PT1H
X-Robots-Tag:noindex
X-PUBLISHED-TTL:PT1H
BEGIN:VTIMEZONE
TZID:America/New_York
BEGIN:DAYLIGHT
TZOFFSETFROM:-0500
TZOFFSETTO:-0400
TZNAME:EDT
DTSTART:20210314T070000
END:DAYLIGHT
BEGIN:STANDARD
TZOFFSETFROM:-0400
TZOFFSETTO:-0500
TZNAME:EST
DTSTART:20211107T060000
END:STANDARD
BEGIN:DAYLIGHT
TZOFFSETFROM:-0500
TZOFFSETTO:-0400
TZNAME:EDT
DTSTART:20220313T070000
END:DAYLIGHT
BEGIN:STANDARD
TZOFFSETFROM:-0400
TZOFFSETTO:-0500
TZNAME:EST
DTSTART:20221106T060000
END:STANDARD
BEGIN:DAYLIGHT
TZOFFSETFROM:-0500
TZOFFSETTO:-0400
TZNAME:EDT
DTSTART:20230312T070000
END:DAYLIGHT
BEGIN:STANDARD
TZOFFSETFROM:-0400
TZOFFSETTO:-0500
TZNAME:EST
DTSTART:20231105T060000
END:STANDARD
END:VTIMEZONE
BEGIN:VEVENT
DTSTART;TZID=America/New_York:20220523T180000
DTEND;TZID=America/New_York:20220523T200000
DTSTAMP:20260420T063111
CREATED:20220322T002017Z
LAST-MODIFIED:20220322T002017Z
UID:4788-1653328800-1653336000@www.providentcharterschool.org
SUMMARY:Schoolhouse Rock
DESCRIPTION:We are excited for our Spring Musical\, Schoolhouse Rock!
URL:https://www.providentcharterschool.org/event/schoolhouse-rock-3/
END:VEVENT
BEGIN:VEVENT
DTSTART;VALUE=DATE:20220526
DTEND;VALUE=DATE:20220527
DTSTAMP:20260420T063111
CREATED:20220915T150827Z
LAST-MODIFIED:20220915T150827Z
UID:6045-1653523200-1653609599@www.providentcharterschool.org
SUMMARY:Career Fair
DESCRIPTION:
URL:https://www.providentcharterschool.org/event/career-fair/
END:VEVENT
BEGIN:VEVENT
DTSTART;VALUE=DATE:20220530
DTEND;VALUE=DATE:20220531
DTSTAMP:20260420T063111
CREATED:20210712T160151Z
LAST-MODIFIED:20210712T160151Z
UID:3362-1653868800-1653955199@www.providentcharterschool.org
SUMMARY:Memorial Day
DESCRIPTION:(No School)
URL:https://www.providentcharterschool.org/event/memorial-day-2/
END:VEVENT
BEGIN:VEVENT
DTSTART;VALUE=DATE:20220601
DTEND;VALUE=DATE:20220602
DTSTAMP:20260420T063111
CREATED:20220915T150915Z
LAST-MODIFIED:20220915T150915Z
UID:6046-1654041600-1654127999@www.providentcharterschool.org
SUMMARY:EOY Celebration
DESCRIPTION:
URL:https://www.providentcharterschool.org/event/eoy-celebration/
END:VEVENT
BEGIN:VEVENT
DTSTART;VALUE=DATE:20220605
DTEND;VALUE=DATE:20220606
DTSTAMP:20260420T063111
CREATED:20220915T150916Z
LAST-MODIFIED:20220915T150916Z
UID:6047-1654387200-1654473599@www.providentcharterschool.org
SUMMARY:Field Day & Clap Out
DESCRIPTION:
URL:https://www.providentcharterschool.org/event/field-day-clap-out/
END:VEVENT
BEGIN:VEVENT
DTSTART;VALUE=DATE:20220606
DTEND;VALUE=DATE:20220607
DTSTAMP:20260420T063111
CREATED:20220915T150916Z
LAST-MODIFIED:20220915T150916Z
UID:6048-1654473600-1654559999@www.providentcharterschool.org
SUMMARY:8th Grade Field Trip
DESCRIPTION:
URL:https://www.providentcharterschool.org/event/8th-grade-field-trip/
END:VEVENT
BEGIN:VEVENT
DTSTART;VALUE=DATE:20220607
DTEND;VALUE=DATE:20220608
DTSTAMP:20260420T063111
CREATED:20220915T150916Z
LAST-MODIFIED:20220915T150916Z
UID:6049-1654560000-1654646399@www.providentcharterschool.org
SUMMARY:8th Grade Field Trip Return Day & Graduation Ceremony
DESCRIPTION:
URL:https://www.providentcharterschool.org/event/8th-grade-field-trip-return-day-graduation-ceremony/
END:VEVENT
BEGIN:VEVENT
DTSTART;VALUE=DATE:20220608
DTEND;VALUE=DATE:20220609
DTSTAMP:20260420T063111
CREATED:20220915T150916Z
LAST-MODIFIED:20220915T150916Z
UID:6050-1654646400-1654732799@www.providentcharterschool.org
SUMMARY:PCS Spirit Day
DESCRIPTION:
URL:https://www.providentcharterschool.org/event/pcs-spirit-day-10/
END:VEVENT
BEGIN:VEVENT
DTSTART;TZID=America/New_York:20220609T073000
DTEND;TZID=America/New_York:20220609T113000
DTSTAMP:20260420T063111
CREATED:20210712T160219Z
LAST-MODIFIED:20210712T160219Z
UID:3363-1654759800-1654774200@www.providentcharterschool.org
SUMMARY:Last Day of School
DESCRIPTION:(11:30 AM Dismissal)
URL:https://www.providentcharterschool.org/event/last-day-of-school/
END:VEVENT
BEGIN:VEVENT
DTSTART;TZID=America/New_York:20220610T073000
DTEND;TZID=America/New_York:20220610T153000
DTSTAMP:20260420T063111
CREATED:20210712T160245Z
LAST-MODIFIED:20210712T160245Z
UID:3364-1654846200-1654875000@www.providentcharterschool.org
SUMMARY:Teacher Clerical Day
DESCRIPTION:(No Students)
URL:https://www.providentcharterschool.org/event/teacher-clerical-day-4/
END:VEVENT
BEGIN:VEVENT
DTSTART;TZID=America/New_York:20220705T083000
DTEND;TZID=America/New_York:20220705T113000
DTSTAMP:20260420T063111
CREATED:20220316T155856Z
LAST-MODIFIED:20220316T155856Z
UID:4685-1657009800-1657020600@www.providentcharterschool.org
SUMMARY:21st Century After- School (Summer Session)
DESCRIPTION:
URL:https://www.providentcharterschool.org/event/21st-century-after-school-summer-session/
END:VEVENT
BEGIN:VEVENT
DTSTART;TZID=America/New_York:20220706T083000
DTEND;TZID=America/New_York:20220706T113000
DTSTAMP:20260420T063111
CREATED:20220316T155856Z
LAST-MODIFIED:20220316T155856Z
UID:4686-1657096200-1657107000@www.providentcharterschool.org
SUMMARY:21st Century After- School (Summer Session)
DESCRIPTION:
URL:https://www.providentcharterschool.org/event/21st-century-after-school-summer-session-2/
END:VEVENT
BEGIN:VEVENT
DTSTART;TZID=America/New_York:20220707T083000
DTEND;TZID=America/New_York:20220707T113000
DTSTAMP:20260420T063111
CREATED:20220316T155856Z
LAST-MODIFIED:20220316T155856Z
UID:4687-1657182600-1657193400@www.providentcharterschool.org
SUMMARY:21st Century After- School (Summer Session)
DESCRIPTION:
URL:https://www.providentcharterschool.org/event/21st-century-after-school-summer-session-3/
END:VEVENT
BEGIN:VEVENT
DTSTART;TZID=America/New_York:20220711T083000
DTEND;TZID=America/New_York:20220711T113000
DTSTAMP:20260420T063111
CREATED:20220316T155856Z
LAST-MODIFIED:20220316T155856Z
UID:4688-1657528200-1657539000@www.providentcharterschool.org
SUMMARY:21st Century After- School (Summer Session)
DESCRIPTION:
URL:https://www.providentcharterschool.org/event/21st-century-after-school-summer-session-4/
END:VEVENT
BEGIN:VEVENT
DTSTART;TZID=America/New_York:20220712T083000
DTEND;TZID=America/New_York:20220712T113000
DTSTAMP:20260420T063111
CREATED:20220316T155856Z
LAST-MODIFIED:20220316T155856Z
UID:4689-1657614600-1657625400@www.providentcharterschool.org
SUMMARY:21st Century After- School (Summer Session)
DESCRIPTION:
URL:https://www.providentcharterschool.org/event/21st-century-after-school-summer-session-5/
END:VEVENT
BEGIN:VEVENT
DTSTART;TZID=America/New_York:20220713T083000
DTEND;TZID=America/New_York:20220713T113000
DTSTAMP:20260420T063111
CREATED:20220316T155904Z
LAST-MODIFIED:20220316T155904Z
UID:4690-1657701000-1657711800@www.providentcharterschool.org
SUMMARY:21st Century After- School (Summer Session)
DESCRIPTION:
URL:https://www.providentcharterschool.org/event/21st-century-after-school-summer-session-6/
END:VEVENT
BEGIN:VEVENT
DTSTART;TZID=America/New_York:20220714T083000
DTEND;TZID=America/New_York:20220714T113000
DTSTAMP:20260420T063111
CREATED:20220316T155904Z
LAST-MODIFIED:20220316T155904Z
UID:4691-1657787400-1657798200@www.providentcharterschool.org
SUMMARY:21st Century After- School (Summer Session)
DESCRIPTION:
URL:https://www.providentcharterschool.org/event/21st-century-after-school-summer-session-7/
END:VEVENT
BEGIN:VEVENT
DTSTART;TZID=America/New_York:20220718T083000
DTEND;TZID=America/New_York:20220718T113000
DTSTAMP:20260420T063111
CREATED:20220316T155904Z
LAST-MODIFIED:20220316T155904Z
UID:4692-1658133000-1658143800@www.providentcharterschool.org
SUMMARY:21st Century After- School (Summer Session)
DESCRIPTION:
URL:https://www.providentcharterschool.org/event/21st-century-after-school-summer-session-8/
END:VEVENT
BEGIN:VEVENT
DTSTART;TZID=America/New_York:20220719T083000
DTEND;TZID=America/New_York:20220719T113000
DTSTAMP:20260420T063111
CREATED:20220316T155904Z
LAST-MODIFIED:20220316T155904Z
UID:4693-1658219400-1658230200@www.providentcharterschool.org
SUMMARY:21st Century After- School (Summer Session)
DESCRIPTION:
URL:https://www.providentcharterschool.org/event/21st-century-after-school-summer-session-9/
END:VEVENT
BEGIN:VEVENT
DTSTART;TZID=America/New_York:20220720T083000
DTEND;TZID=America/New_York:20220720T113000
DTSTAMP:20260420T063111
CREATED:20220316T155904Z
LAST-MODIFIED:20220316T155904Z
UID:4694-1658305800-1658316600@www.providentcharterschool.org
SUMMARY:21st Century After- School (Summer Session)
DESCRIPTION:
URL:https://www.providentcharterschool.org/event/21st-century-after-school-summer-session-10/
END:VEVENT
BEGIN:VEVENT
DTSTART;TZID=America/New_York:20220721T083000
DTEND;TZID=America/New_York:20220721T113000
DTSTAMP:20260420T063111
CREATED:20220316T160103Z
LAST-MODIFIED:20220316T160103Z
UID:4695-1658392200-1658403000@www.providentcharterschool.org
SUMMARY:21st Century After- School (Summer Session)
DESCRIPTION:
URL:https://www.providentcharterschool.org/event/21st-century-after-school-summer-session-11/
END:VEVENT
BEGIN:VEVENT
DTSTART;TZID=America/New_York:20220725T083000
DTEND;TZID=America/New_York:20220725T113000
DTSTAMP:20260420T063111
CREATED:20220316T160104Z
LAST-MODIFIED:20220316T160104Z
UID:4696-1658737800-1658748600@www.providentcharterschool.org
SUMMARY:21st Century After- School (Summer Session)
DESCRIPTION:
URL:https://www.providentcharterschool.org/event/21st-century-after-school-summer-session-12/
END:VEVENT
BEGIN:VEVENT
DTSTART;TZID=America/New_York:20220726T083000
DTEND;TZID=America/New_York:20220726T113000
DTSTAMP:20260420T063111
CREATED:20220316T160104Z
LAST-MODIFIED:20220316T160104Z
UID:4697-1658824200-1658835000@www.providentcharterschool.org
SUMMARY:21st Century After- School (Summer Session)
DESCRIPTION:
URL:https://www.providentcharterschool.org/event/21st-century-after-school-summer-session-13/
END:VEVENT
BEGIN:VEVENT
DTSTART;TZID=America/New_York:20220727T083000
DTEND;TZID=America/New_York:20220727T113000
DTSTAMP:20260420T063111
CREATED:20220316T160104Z
LAST-MODIFIED:20220316T160104Z
UID:4698-1658910600-1658921400@www.providentcharterschool.org
SUMMARY:21st Century After- School (Summer Session)
DESCRIPTION:
URL:https://www.providentcharterschool.org/event/21st-century-after-school-summer-session-14/
END:VEVENT
BEGIN:VEVENT
DTSTART;TZID=America/New_York:20220728T083000
DTEND;TZID=America/New_York:20220728T113000
DTSTAMP:20260420T063111
CREATED:20220316T160104Z
LAST-MODIFIED:20220316T160104Z
UID:4699-1658997000-1659007800@www.providentcharterschool.org
SUMMARY:21st Century After- School (Summer Session)
DESCRIPTION:
URL:https://www.providentcharterschool.org/event/21st-century-after-school-summer-session-15/
END:VEVENT
BEGIN:VEVENT
DTSTART;TZID=America/New_York:20220815T080000
DTEND;TZID=America/New_York:20220815T150000
DTSTAMP:20260420T063111
CREATED:20220316T165120Z
LAST-MODIFIED:20220316T165120Z
UID:4702-1660550400-1660575600@www.providentcharterschool.org
SUMMARY:New Teacher In-Service Day (No Students)
DESCRIPTION:
URL:https://www.providentcharterschool.org/event/new-teacher-in-service-day-no-students/
END:VEVENT
BEGIN:VEVENT
DTSTART;TZID=America/New_York:20220816T080000
DTEND;TZID=America/New_York:20220816T150000
DTSTAMP:20260420T063111
CREATED:20220316T165121Z
LAST-MODIFIED:20220316T165121Z
UID:4703-1660636800-1660662000@www.providentcharterschool.org
SUMMARY:New Teacher In-Service Day (No Students)
DESCRIPTION:
URL:https://www.providentcharterschool.org/event/new-teacher-in-service-day-no-students-2/
END:VEVENT
BEGIN:VEVENT
DTSTART;TZID=America/New_York:20220817T080000
DTEND;TZID=America/New_York:20220817T150000
DTSTAMP:20260420T063111
CREATED:20220316T165121Z
LAST-MODIFIED:20220316T165121Z
UID:4704-1660723200-1660748400@www.providentcharterschool.org
SUMMARY:Teacher In-Service Day (No Students)
DESCRIPTION:
URL:https://www.providentcharterschool.org/event/teacher-in-service-day-no-students/
END:VEVENT
BEGIN:VEVENT
DTSTART;VALUE=DATE:20220818
DTEND;VALUE=DATE:20220819
DTSTAMP:20260420T063111
CREATED:20220915T144753Z
LAST-MODIFIED:20220915T150228Z
UID:5954-1660780800-1660867199@www.providentcharterschool.org
SUMMARY:Back to School Information Night
DESCRIPTION:
URL:https://www.providentcharterschool.org/event/back-to-school-information-night/
END:VEVENT
BEGIN:VEVENT
DTSTART;TZID=America/New_York:20220818T080000
DTEND;TZID=America/New_York:20220818T150000
DTSTAMP:20260420T063111
CREATED:20220316T165121Z
LAST-MODIFIED:20220316T165121Z
UID:4705-1660809600-1660834800@www.providentcharterschool.org
SUMMARY:Teacher In-Service Day (No Students)
DESCRIPTION:
URL:https://www.providentcharterschool.org/event/teacher-in-service-day-no-students-2/
END:VEVENT
END:VCALENDAR