BEGIN:VCALENDAR
VERSION:2.0
PRODID:-//Provident Charter Schools - ECPv6.15.13//NONSGML v1.0//EN
CALSCALE:GREGORIAN
METHOD:PUBLISH
X-WR-CALNAME:Provident Charter Schools
X-ORIGINAL-URL:https://www.providentcharterschool.org
X-WR-CALDESC:Events for Provident Charter Schools
REFRESH-INTERVAL;VALUE=DURATION:PT1H
X-Robots-Tag:noindex
X-PUBLISHED-TTL:PT1H
BEGIN:VTIMEZONE
TZID:America/New_York
BEGIN:DAYLIGHT
TZOFFSETFROM:-0500
TZOFFSETTO:-0400
TZNAME:EDT
DTSTART:20230312T070000
END:DAYLIGHT
BEGIN:STANDARD
TZOFFSETFROM:-0400
TZOFFSETTO:-0500
TZNAME:EST
DTSTART:20231105T060000
END:STANDARD
BEGIN:DAYLIGHT
TZOFFSETFROM:-0500
TZOFFSETTO:-0400
TZNAME:EDT
DTSTART:20240310T070000
END:DAYLIGHT
BEGIN:STANDARD
TZOFFSETFROM:-0400
TZOFFSETTO:-0500
TZNAME:EST
DTSTART:20241103T060000
END:STANDARD
BEGIN:DAYLIGHT
TZOFFSETFROM:-0500
TZOFFSETTO:-0400
TZNAME:EDT
DTSTART:20250309T070000
END:DAYLIGHT
BEGIN:STANDARD
TZOFFSETFROM:-0400
TZOFFSETTO:-0500
TZNAME:EST
DTSTART:20251102T060000
END:STANDARD
END:VTIMEZONE
BEGIN:VEVENT
DTSTART;TZID=America/New_York:20240913T073000
DTEND;TZID=America/New_York:20240913T113000
DTSTAMP:20260420T094727
CREATED:20240726T132417Z
LAST-MODIFIED:20240726T132417Z
UID:8643-1726212600-1726227000@www.providentcharterschool.org
SUMMARY:Half-Day Staff In-Service Day
DESCRIPTION:
URL:https://www.providentcharterschool.org/event/half-day-staff-in-service-day/
END:VEVENT
BEGIN:VEVENT
DTSTART;TZID=America/New_York:20240912T183000
DTEND;TZID=America/New_York:20240912T200000
DTSTAMP:20260420T094727
CREATED:20240823T114416Z
LAST-MODIFIED:20240823T114416Z
UID:8798-1726165800-1726171200@www.providentcharterschool.org
SUMMARY:Grades 6-8 Meet the Teacher Night @ PCS Central
DESCRIPTION:
URL:https://www.providentcharterschool.org/event/grades-6-8-meet-the-teacher-night-pcs-central/
LOCATION:Provident Charter School Central\, 1400 Troy Hill Road\, Pittsburgh\, PA\, 15212\, United States
END:VEVENT
BEGIN:VEVENT
DTSTART;TZID=America/New_York:20240911T183000
DTEND;TZID=America/New_York:20240911T200000
DTSTAMP:20260420T094727
CREATED:20240823T114329Z
LAST-MODIFIED:20240823T114329Z
UID:8797-1726079400-1726084800@www.providentcharterschool.org
SUMMARY:Meet the Teacher Night @ PCS West
DESCRIPTION:
URL:https://www.providentcharterschool.org/event/meet-the-teacher-night-pcs-west/
LOCATION:Provident Charter School West\, 200 Quigley Drive\, Baden\, PA\, 15005
END:VEVENT
BEGIN:VEVENT
DTSTART;TZID=America/New_York:20240910T183000
DTEND;TZID=America/New_York:20240910T200000
DTSTAMP:20260420T094727
CREATED:20240823T114224Z
LAST-MODIFIED:20240823T114241Z
UID:8796-1725993000-1725998400@www.providentcharterschool.org
SUMMARY:Grades 2-5 Meet the Teacher Night @ PCS Central
DESCRIPTION:
URL:https://www.providentcharterschool.org/event/grades-2-5-meet-the-teacher-night-pcs-central/
LOCATION:Provident Charter School Central\, 1400 Troy Hill Road\, Pittsburgh\, PA\, 15212\, United States
END:VEVENT
BEGIN:VEVENT
DTSTART;TZID=America/New_York:20240904T180000
DTEND;TZID=America/New_York:20240904T190000
DTSTAMP:20260420T094727
CREATED:20240810T173206Z
LAST-MODIFIED:20240810T173206Z
UID:8764-1725472800-1725476400@www.providentcharterschool.org
SUMMARY:Northland Library Reading Series: Part 1
DESCRIPTION:This event is an educational discussion led by Maria Paluselli\, CEO of Provident Charter Schools\, to help demystify how children learn to read. Talking points include ways to support emerging readers\, the specific reading skills and competencies that are needed at different age levels\, and what to do when those skills are not developing.
URL:https://www.providentcharterschool.org/event/northland-library-reading-series-part-1/
LOCATION:Northland Public Library\, 300 Cumberland Rd\, Pittsburgh\, PA\, 15237
END:VEVENT
BEGIN:VEVENT
DTSTART;VALUE=DATE:20240903
DTEND;VALUE=DATE:20240904
DTSTAMP:20260420T094727
CREATED:20240728T132932Z
LAST-MODIFIED:20240728T132932Z
UID:8714-1725321600-1725407999@www.providentcharterschool.org
SUMMARY:PCS Central - Smile Dental
DESCRIPTION:Date: Tuesday\, September 3\, 2024\nTime: During the school day\nLocation: PCS Central\nOverview: Smile Dental offers dental screenings and exams for our students. Here’s how you can take advantage of this service:\n\n\n\n\n\n\n\nStep 1 – Sign Up Online: Go to www.myschooldentist.com to register. \nStep 2 – Print and fill out the forms below: \n\n\n\nDental Exam Forms (All Students)\n– English Form\n– Spanish Form\nAdditional Screener Forms for 3rd & 7th graders*\n– English Form\n– Spanish Form\n\n\n\n*If your child is in 3rd or 7th grade\, a dental screening is required. This can be done by your personal dentist or Smile Dental. \nStep 3 – Return the Forms\n– Bring the completed form to Provident Charter School in person\, or\n– Email it to schoolnurse@providentcharterschool.org. \nImportant: If you do not have access to a printer\, please contact Ms. Jennie in the main office at 412-709-5160 or email office@providentcharterschool.org\, and she will mail a form to you. Forms will also be available at our Back to School Night. \nDental care is usually at no cost to you\, and all insurance is accepted\, including Medicaid and PA CHIP. We encourage you to register as soon as possible to ensure your child receives the necessary dental care.
URL:https://www.providentcharterschool.org/event/pcs-central-smile-dental/
END:VEVENT
BEGIN:VEVENT
DTSTART;VALUE=DATE:20240902
DTEND;VALUE=DATE:20240903
DTSTAMP:20260420T094727
CREATED:20240726T132417Z
LAST-MODIFIED:20240726T132417Z
UID:8642-1725235200-1725321599@www.providentcharterschool.org
SUMMARY:Labor Day - No School
DESCRIPTION:
URL:https://www.providentcharterschool.org/event/labor-day-no-school-4/
END:VEVENT
BEGIN:VEVENT
DTSTART;TZID=America/New_York:20240827T160000
DTEND;TZID=America/New_York:20240827T180000
DTSTAMP:20260420T094727
CREATED:20240819T134432Z
LAST-MODIFIED:20240819T134432Z
UID:8786-1724774400-1724781600@www.providentcharterschool.org
SUMMARY:PCS West Open House
DESCRIPTION:
URL:https://www.providentcharterschool.org/event/pcs-west-open-house/
LOCATION:Provident Charter School West\, 200 Quigley Drive\, Baden\, PA\, 15005
END:VEVENT
BEGIN:VEVENT
DTSTART;TZID=America/New_York:20240821T073000
DTEND;TZID=America/New_York:20240821T153000
DTSTAMP:20260420T094727
CREATED:20240726T132417Z
LAST-MODIFIED:20240726T132417Z
UID:8641-1724225400-1724254200@www.providentcharterschool.org
SUMMARY:First Day of School
DESCRIPTION:
URL:https://www.providentcharterschool.org/event/first-day-of-school-5/
END:VEVENT
BEGIN:VEVENT
DTSTART;TZID=America/New_York:20240820T080000
DTEND;TZID=America/New_York:20240820T150000
DTSTAMP:20260420T094727
CREATED:20240726T132417Z
LAST-MODIFIED:20240726T132417Z
UID:8640-1724140800-1724166000@www.providentcharterschool.org
SUMMARY:Staff In-Service Day (No Students)
DESCRIPTION:
URL:https://www.providentcharterschool.org/event/staff-in-service-day-no-students-11/
END:VEVENT
BEGIN:VEVENT
DTSTART;TZID=America/New_York:20240819T183000
DTEND;TZID=America/New_York:20240819T193000
DTSTAMP:20260420T094727
CREATED:20240728T132720Z
LAST-MODIFIED:20240728T132720Z
UID:8713-1724092200-1724095800@www.providentcharterschool.org
SUMMARY:PCS West - Back to School Night
DESCRIPTION:Our Back-to-School Family Information Night will include a presentation that gives an overview of PCS’s technology\, cafeteria\, school nurse\, and our parent/family group. After the presentation\, participants will be able to visit a variety of booths and will have the option to complete any paperwork if necessary. If you plan to apply for Free & Reduced lunch\, please bring the previous month’s pay stub to use with your paperwork. Both new families and current families should plan to attend.
URL:https://www.providentcharterschool.org/event/pcs-west-back-to-school-night/
END:VEVENT
BEGIN:VEVENT
DTSTART;TZID=America/New_York:20240819T183000
DTEND;TZID=America/New_York:20240819T193000
DTSTAMP:20260420T094727
CREATED:20240728T132625Z
LAST-MODIFIED:20240728T132625Z
UID:8712-1724092200-1724095800@www.providentcharterschool.org
SUMMARY:PCS Central - Back to School Night
DESCRIPTION:Our Back-to-School Family Information Night will include a presentation that gives an overview of PCS’s technology\, cafeteria\, school nurse\, and our parent/family group. After the presentation\, participants will be able to visit a variety of booths and will have the option to complete any paperwork if necessary. If you plan to apply for Free & Reduced lunch\, please bring the previous month’s pay stub to use with your paperwork. Both new families and current families should plan to attend. \nRegistration Link: https://forms.gle/17qfN14BH3Jf9ue87
URL:https://www.providentcharterschool.org/event/pcs-central-back-to-school-night/
END:VEVENT
BEGIN:VEVENT
DTSTART;TZID=America/New_York:20240819T080000
DTEND;TZID=America/New_York:20240819T150000
DTSTAMP:20260420T094727
CREATED:20240726T132414Z
LAST-MODIFIED:20240726T132414Z
UID:8639-1724054400-1724079600@www.providentcharterschool.org
SUMMARY:Staff In-Service Day (No Students)
DESCRIPTION:
URL:https://www.providentcharterschool.org/event/staff-in-service-day-no-students-10/
END:VEVENT
BEGIN:VEVENT
DTSTART;TZID=America/New_York:20240817T100000
DTEND;TZID=America/New_York:20240817T120000
DTSTAMP:20260420T094727
CREATED:20240809T114207Z
LAST-MODIFIED:20240809T114354Z
UID:8756-1723888800-1723896000@www.providentcharterschool.org
SUMMARY:PCS West Open House
DESCRIPTION:Join us for a tour of the school\, meet our Principal\, and see how we make learning fun!
URL:https://www.providentcharterschool.org/event/pcs-west-open-house-2024-08-17/
LOCATION:Provident Charter School West\, 200 Quigley Drive\, Baden\, PA\, 15005
END:VEVENT
BEGIN:VEVENT
DTSTART;TZID=America/New_York:20240816T080000
DTEND;TZID=America/New_York:20240816T150000
DTSTAMP:20260420T094727
CREATED:20240726T132414Z
LAST-MODIFIED:20240726T132414Z
UID:8638-1723795200-1723820400@www.providentcharterschool.org
SUMMARY:Staff In-Service Day (No Students)
DESCRIPTION:
URL:https://www.providentcharterschool.org/event/staff-in-service-day-no-students-9/
END:VEVENT
BEGIN:VEVENT
DTSTART;TZID=America/New_York:20240815T080000
DTEND;TZID=America/New_York:20240815T150000
DTSTAMP:20260420T094727
CREATED:20240726T132413Z
LAST-MODIFIED:20240726T132413Z
UID:8637-1723708800-1723734000@www.providentcharterschool.org
SUMMARY:Staff In-Service Day (No Students)
DESCRIPTION:
URL:https://www.providentcharterschool.org/event/staff-in-service-day-no-students-8/
END:VEVENT
BEGIN:VEVENT
DTSTART;TZID=America/New_York:20240814T080000
DTEND;TZID=America/New_York:20240814T150000
DTSTAMP:20260420T094727
CREATED:20240726T132412Z
LAST-MODIFIED:20240726T132412Z
UID:8636-1723622400-1723647600@www.providentcharterschool.org
SUMMARY:Staff In-Service Day (No Students)
DESCRIPTION:
URL:https://www.providentcharterschool.org/event/staff-in-service-day-no-students-7/
END:VEVENT
BEGIN:VEVENT
DTSTART;TZID=America/New_York:20240813T080000
DTEND;TZID=America/New_York:20240813T150000
DTSTAMP:20260420T094727
CREATED:20240726T132411Z
LAST-MODIFIED:20240726T132411Z
UID:8635-1723536000-1723561200@www.providentcharterschool.org
SUMMARY:New Staff In-Service Day (No Students)
DESCRIPTION:
URL:https://www.providentcharterschool.org/event/new-staff-in-service-day-no-students-3/
END:VEVENT
BEGIN:VEVENT
DTSTART;TZID=America/New_York:20240805T190000
DTEND;TZID=America/New_York:20240805T200000
DTSTAMP:20260420T094727
CREATED:20240728T132509Z
LAST-MODIFIED:20240728T132509Z
UID:8711-1722884400-1722888000@www.providentcharterschool.org
SUMMARY:PCS Central - Virtual Town Hall Meeting
DESCRIPTION:Several PCS administrators and Board Members will be hosting a Virtual Town Hall meeting for families to learn about some changes at PCS Central. During this virtual meeting\, participants will have an opportunity to learn more and ask questions about the following: \n\n\n\n\n\nChanges in our enrollment trends\nNew staff & positions at PCS\nWhat we have learned from recent PCS graduates\nHow our mission guided recent restructuring decisions\nWhat\, if any\, impact this restructuring will have on your student\n\n\n\n\n\n\n\n\n\n\n\n\n\n\n\n\nZoom Meeting Info: \n\n\n\nClick to Join\nMeeting ID: 815 1830 8494\nPasscode: DG72aw
URL:https://www.providentcharterschool.org/event/pcs-central-virtual-town-hall-meeting/
END:VEVENT
BEGIN:VEVENT
DTSTART;TZID=America/New_York:20240731T170000
DTEND;TZID=America/New_York:20240731T200000
DTSTAMP:20260420T094727
CREATED:20240728T132250Z
LAST-MODIFIED:20240728T132326Z
UID:8710-1722445200-1722456000@www.providentcharterschool.org
SUMMARY:Alumni Picnic
DESCRIPTION:Location: PCS Central \nOverview: Calling all PCS alumni! Get ready for a blast from the past at our very first Alumni Picnic. It’s the perfect opportunity to catch up with former classmates and relive those unforgettable school days. Mark your calendars and spread the word because this event is a chance to reconnect with your PCS family. See you there!
URL:https://www.providentcharterschool.org/event/alumni-picnic/
END:VEVENT
BEGIN:VEVENT
DTSTART;TZID=America/New_York:20240607T074000
DTEND;TZID=America/New_York:20240607T154000
DTSTAMP:20260420T094727
CREATED:20230323T161848Z
LAST-MODIFIED:20230323T161848Z
UID:7238-1717746000-1717774800@www.providentcharterschool.org
SUMMARY:Staff Clerical Day (No Students)
DESCRIPTION:
URL:https://www.providentcharterschool.org/event/staff-clerical-day-no-students/
END:VEVENT
BEGIN:VEVENT
DTSTART;TZID=America/New_York:20240606T074000
DTEND;TZID=America/New_York:20240606T113000
DTSTAMP:20260420T094727
CREATED:20230323T161848Z
LAST-MODIFIED:20230323T164111Z
UID:7237-1717659600-1717673400@www.providentcharterschool.org
SUMMARY:Last Day of School - End of 3rd Trimester - PBIS End of 3rd Trimester Reward Day (11:30 AM Dismissal for Students)
DESCRIPTION:
URL:https://www.providentcharterschool.org/event/last-day-of-school-end-of-3rd-trimester-pbis-end-of-3rd-trimester-reward-day1130-am-dismissal-for-students/
END:VEVENT
BEGIN:VEVENT
DTSTART;VALUE=DATE:20240606
DTEND;VALUE=DATE:20240607
DTSTAMP:20260420T094727
CREATED:20230731T124841Z
LAST-MODIFIED:20230731T124841Z
UID:7697-1717632000-1717718399@www.providentcharterschool.org
SUMMARY:Day 2
DESCRIPTION:
URL:https://www.providentcharterschool.org/event/day-2-60/
END:VEVENT
BEGIN:VEVENT
DTSTART;VALUE=DATE:20240605
DTEND;VALUE=DATE:20240606
DTSTAMP:20260420T094727
CREATED:20230731T124841Z
LAST-MODIFIED:20230731T124841Z
UID:7696-1717545600-1717631999@www.providentcharterschool.org
SUMMARY:Day 1
DESCRIPTION:
URL:https://www.providentcharterschool.org/event/day-1-60/
END:VEVENT
BEGIN:VEVENT
DTSTART;VALUE=DATE:20240604
DTEND;VALUE=DATE:20240605
DTSTAMP:20260420T094727
CREATED:20230731T124841Z
LAST-MODIFIED:20230731T124841Z
UID:7695-1717459200-1717545599@www.providentcharterschool.org
SUMMARY:Day 6
DESCRIPTION:
URL:https://www.providentcharterschool.org/event/day-6-58/
END:VEVENT
BEGIN:VEVENT
DTSTART;TZID=America/New_York:20240603T074500
DTEND;TZID=America/New_York:20240603T154000
DTSTAMP:20260420T094727
CREATED:20240430T130753Z
LAST-MODIFIED:20240529T190345Z
UID:8455-1717400700-1717429200@www.providentcharterschool.org
SUMMARY:Field Day - Central
DESCRIPTION:
URL:https://www.providentcharterschool.org/event/field-day-central/
END:VEVENT
BEGIN:VEVENT
DTSTART;VALUE=DATE:20240603
DTEND;VALUE=DATE:20240604
DTSTAMP:20260420T094727
CREATED:20230731T124840Z
LAST-MODIFIED:20230731T124840Z
UID:7694-1717372800-1717459199@www.providentcharterschool.org
SUMMARY:Day 5
DESCRIPTION:
URL:https://www.providentcharterschool.org/event/day-5-59/
END:VEVENT
BEGIN:VEVENT
DTSTART;VALUE=DATE:20240603
DTEND;VALUE=DATE:20240604
DTSTAMP:20260420T094727
CREATED:20230323T163040Z
LAST-MODIFIED:20230323T163040Z
UID:7298-1717372800-1717459199@www.providentcharterschool.org
SUMMARY:Field Day
DESCRIPTION:
URL:https://www.providentcharterschool.org/event/field-day-3/
END:VEVENT
BEGIN:VEVENT
DTSTART;VALUE=DATE:20240601
DTEND;VALUE=DATE:20240602
DTSTAMP:20260420T094727
CREATED:20230323T163040Z
LAST-MODIFIED:20230323T163040Z
UID:7297-1717200000-1717286399@www.providentcharterschool.org
SUMMARY:Kids' Day Tour
DESCRIPTION:
URL:https://www.providentcharterschool.org/event/kids-day-tour-3/
END:VEVENT
BEGIN:VEVENT
DTSTART;VALUE=DATE:20240531
DTEND;VALUE=DATE:20240601
DTSTAMP:20260420T094727
CREATED:20230731T124840Z
LAST-MODIFIED:20230731T124840Z
UID:7693-1717113600-1717199999@www.providentcharterschool.org
SUMMARY:Day 4
DESCRIPTION:
URL:https://www.providentcharterschool.org/event/day-4-60/
END:VEVENT
END:VCALENDAR