BEGIN:VCALENDAR
VERSION:2.0
PRODID:-//Provident Charter Schools - ECPv6.15.13//NONSGML v1.0//EN
CALSCALE:GREGORIAN
METHOD:PUBLISH
X-ORIGINAL-URL:https://www.providentcharterschool.org
X-WR-CALDESC:Events for Provident Charter Schools
REFRESH-INTERVAL;VALUE=DURATION:PT1H
X-Robots-Tag:noindex
X-PUBLISHED-TTL:PT1H
BEGIN:VTIMEZONE
TZID:America/New_York
BEGIN:DAYLIGHT
TZOFFSETFROM:-0500
TZOFFSETTO:-0400
TZNAME:EDT
DTSTART:20220313T070000
END:DAYLIGHT
BEGIN:STANDARD
TZOFFSETFROM:-0400
TZOFFSETTO:-0500
TZNAME:EST
DTSTART:20221106T060000
END:STANDARD
BEGIN:DAYLIGHT
TZOFFSETFROM:-0500
TZOFFSETTO:-0400
TZNAME:EDT
DTSTART:20230312T070000
END:DAYLIGHT
BEGIN:STANDARD
TZOFFSETFROM:-0400
TZOFFSETTO:-0500
TZNAME:EST
DTSTART:20231105T060000
END:STANDARD
BEGIN:DAYLIGHT
TZOFFSETFROM:-0500
TZOFFSETTO:-0400
TZNAME:EDT
DTSTART:20240310T070000
END:DAYLIGHT
BEGIN:STANDARD
TZOFFSETFROM:-0400
TZOFFSETTO:-0500
TZNAME:EST
DTSTART:20241103T060000
END:STANDARD
END:VTIMEZONE
BEGIN:VEVENT
DTSTART;VALUE=DATE:20231110
DTEND;VALUE=DATE:20231111
DTSTAMP:20260419T224645
CREATED:20230323T162438Z
LAST-MODIFIED:20230323T162438Z
UID:7264-1699574400-1699660799@www.providentcharterschool.org
SUMMARY:PBIS Trimester 1 Reward Day
DESCRIPTION:
URL:https://www.providentcharterschool.org/event/pbis-trimester-1-reward-day/
LOCATION:PA
END:VEVENT
BEGIN:VEVENT
DTSTART;VALUE=DATE:20231110
DTEND;VALUE=DATE:20231111
DTSTAMP:20260419T224645
CREATED:20230731T121744Z
LAST-MODIFIED:20230731T121744Z
UID:7573-1699574400-1699660799@www.providentcharterschool.org
SUMMARY:Day 6
DESCRIPTION:
URL:https://www.providentcharterschool.org/event/day-6-39/
LOCATION:PA
END:VEVENT
BEGIN:VEVENT
DTSTART;VALUE=DATE:20231110
DTEND;VALUE=DATE:20231111
DTSTAMP:20260419T224645
CREATED:20230815T183658Z
LAST-MODIFIED:20230815T183658Z
UID:7761-1699574400-1699660799@www.providentcharterschool.org
SUMMARY:PBIS Dress Down Day
DESCRIPTION:
URL:https://www.providentcharterschool.org/event/pbis-dress-down-day-6/
LOCATION:PA
END:VEVENT
BEGIN:VEVENT
DTSTART;TZID=America/New_York:20231110T074000
DTEND;TZID=America/New_York:20231110T113000
DTSTAMP:20260419T224645
CREATED:20230323T161447Z
LAST-MODIFIED:20230323T161447Z
UID:7220-1699602000-1699615800@www.providentcharterschool.org
SUMMARY:Half-Day Staff In-Service Day(11:30 AM Dismissal for Students)
DESCRIPTION:
URL:https://www.providentcharterschool.org/event/half-day-staff-in-service-day1130-am-dismissal-for-students-3/
LOCATION:PA
END:VEVENT
BEGIN:VEVENT
DTSTART;VALUE=DATE:20231113
DTEND;VALUE=DATE:20231114
DTSTAMP:20260419T224645
CREATED:20230731T121746Z
LAST-MODIFIED:20230731T121747Z
UID:7574-1699833600-1699919999@www.providentcharterschool.org
SUMMARY:Day 1
DESCRIPTION:
URL:https://www.providentcharterschool.org/event/day-1-41/
LOCATION:PA
END:VEVENT
BEGIN:VEVENT
DTSTART;VALUE=DATE:20231113
DTEND;VALUE=DATE:20231118
DTSTAMP:20260419T224645
CREATED:20230323T162438Z
LAST-MODIFIED:20230323T162438Z
UID:7265-1699833600-1700265599@www.providentcharterschool.org
SUMMARY:World Kindness Week
DESCRIPTION:
URL:https://www.providentcharterschool.org/event/world-kindness-week/
LOCATION:PA
END:VEVENT
BEGIN:VEVENT
DTSTART;VALUE=DATE:20231114
DTEND;VALUE=DATE:20231115
DTSTAMP:20260419T224645
CREATED:20230731T121746Z
LAST-MODIFIED:20230731T121747Z
UID:7575-1699920000-1700006399@www.providentcharterschool.org
SUMMARY:Day 2
DESCRIPTION:
URL:https://www.providentcharterschool.org/event/day-2-41/
LOCATION:PA
END:VEVENT
BEGIN:VEVENT
DTSTART;VALUE=DATE:20231115
DTEND;VALUE=DATE:20231116
DTSTAMP:20260419T224645
CREATED:20230731T121746Z
LAST-MODIFIED:20230731T121747Z
UID:7576-1700006400-1700092799@www.providentcharterschool.org
SUMMARY:Day 3
DESCRIPTION:
URL:https://www.providentcharterschool.org/event/day-3-40/
LOCATION:PA
END:VEVENT
BEGIN:VEVENT
DTSTART;VALUE=DATE:20231116
DTEND;VALUE=DATE:20231117
DTSTAMP:20260419T224645
CREATED:20230731T121746Z
LAST-MODIFIED:20230731T121747Z
UID:7577-1700092800-1700179199@www.providentcharterschool.org
SUMMARY:Day 4
DESCRIPTION:
URL:https://www.providentcharterschool.org/event/day-4-40/
LOCATION:PA
END:VEVENT
BEGIN:VEVENT
DTSTART;TZID=America/New_York:20231116T170000
DTEND;TZID=America/New_York:20231116T190000
DTSTAMP:20260419T224645
CREATED:20231012T132432Z
LAST-MODIFIED:20231012T132501Z
UID:8004-1700154000-1700161200@www.providentcharterschool.org
SUMMARY:Family STEAM Night
DESCRIPTION:
URL:https://www.providentcharterschool.org/event/family-steam-night-4/
LOCATION:Provident Charter School Central\, 1400 Troy Hill Road\, Pittsburgh\, PA\, 15212\, United States
END:VEVENT
BEGIN:VEVENT
DTSTART;VALUE=DATE:20231117
DTEND;VALUE=DATE:20231118
DTSTAMP:20260419T224645
CREATED:20230731T121746Z
LAST-MODIFIED:20230731T121747Z
UID:7578-1700179200-1700265599@www.providentcharterschool.org
SUMMARY:Day 5
DESCRIPTION:
URL:https://www.providentcharterschool.org/event/day-5-40/
LOCATION:PA
END:VEVENT
BEGIN:VEVENT
DTSTART;VALUE=DATE:20231117
DTEND;VALUE=DATE:20231118
DTSTAMP:20260419T224645
CREATED:20230815T183658Z
LAST-MODIFIED:20230815T183658Z
UID:7762-1700179200-1700265599@www.providentcharterschool.org
SUMMARY:PBIS Dress Down Day
DESCRIPTION:
URL:https://www.providentcharterschool.org/event/pbis-dress-down-day-7/
LOCATION:PA
END:VEVENT
BEGIN:VEVENT
DTSTART;VALUE=DATE:20231120
DTEND;VALUE=DATE:20231121
DTSTAMP:20260419T224645
CREATED:20230731T121847Z
LAST-MODIFIED:20230731T121847Z
UID:7579-1700438400-1700524799@www.providentcharterschool.org
SUMMARY:Day 6
DESCRIPTION:
URL:https://www.providentcharterschool.org/event/day-6-40/
LOCATION:PA
END:VEVENT
BEGIN:VEVENT
DTSTART;VALUE=DATE:20231121
DTEND;VALUE=DATE:20231122
DTSTAMP:20260419T224645
CREATED:20230323T162438Z
LAST-MODIFIED:20230323T162438Z
UID:7266-1700524800-1700611199@www.providentcharterschool.org
SUMMARY:End of 1st Trimester
DESCRIPTION:
URL:https://www.providentcharterschool.org/event/end-of-1st-trimester-4/
LOCATION:PA
END:VEVENT
BEGIN:VEVENT
DTSTART;VALUE=DATE:20231121
DTEND;VALUE=DATE:20231122
DTSTAMP:20260419T224645
CREATED:20230731T121847Z
LAST-MODIFIED:20230731T121847Z
UID:7580-1700524800-1700611199@www.providentcharterschool.org
SUMMARY:Day 1
DESCRIPTION:
URL:https://www.providentcharterschool.org/event/day-1-42/
LOCATION:PA
END:VEVENT
BEGIN:VEVENT
DTSTART;VALUE=DATE:20231122
DTEND;VALUE=DATE:20231123
DTSTAMP:20260419T224645
CREATED:20230323T162438Z
LAST-MODIFIED:20230323T162438Z
UID:7267-1700611200-1700697599@www.providentcharterschool.org
SUMMARY:Thanksgiving Break - No School
DESCRIPTION:
URL:https://www.providentcharterschool.org/event/thanksgiving-break-no-school-6/
LOCATION:PA
END:VEVENT
BEGIN:VEVENT
DTSTART;VALUE=DATE:20231123
DTEND;VALUE=DATE:20231124
DTSTAMP:20260419T224645
CREATED:20230323T162438Z
LAST-MODIFIED:20230323T162438Z
UID:7268-1700697600-1700783999@www.providentcharterschool.org
SUMMARY:Thanksgiving Break - No School
DESCRIPTION:
URL:https://www.providentcharterschool.org/event/thanksgiving-break-no-school-7/
LOCATION:PA
END:VEVENT
BEGIN:VEVENT
DTSTART;VALUE=DATE:20231124
DTEND;VALUE=DATE:20231125
DTSTAMP:20260419T224645
CREATED:20230323T162538Z
LAST-MODIFIED:20230323T162538Z
UID:7269-1700784000-1700870399@www.providentcharterschool.org
SUMMARY:Thanksgiving Break - No School
DESCRIPTION:
URL:https://www.providentcharterschool.org/event/thanksgiving-break-no-school-8/
LOCATION:PA
END:VEVENT
BEGIN:VEVENT
DTSTART;TZID=America/New_York:20231127T074000
DTEND;TZID=America/New_York:20231127T154000
DTSTAMP:20260419T224645
CREATED:20230323T161447Z
LAST-MODIFIED:20230323T161447Z
UID:7221-1701070800-1701099600@www.providentcharterschool.org
SUMMARY:End of 1st Trimester - Staff Clerical Day (No Students)
DESCRIPTION:
URL:https://www.providentcharterschool.org/event/end-of-1st-trimester-staff-clerical-day-no-students/
LOCATION:PA
END:VEVENT
BEGIN:VEVENT
DTSTART;VALUE=DATE:20231128
DTEND;VALUE=DATE:20231129
DTSTAMP:20260419T224645
CREATED:20230731T121847Z
LAST-MODIFIED:20230731T121847Z
UID:7581-1701129600-1701215999@www.providentcharterschool.org
SUMMARY:Day 2
DESCRIPTION:
URL:https://www.providentcharterschool.org/event/day-2-42/
LOCATION:PA
END:VEVENT
BEGIN:VEVENT
DTSTART;VALUE=DATE:20231129
DTEND;VALUE=DATE:20231130
DTSTAMP:20260419T224645
CREATED:20230731T121847Z
LAST-MODIFIED:20230731T121847Z
UID:7582-1701216000-1701302399@www.providentcharterschool.org
SUMMARY:Day 3
DESCRIPTION:
URL:https://www.providentcharterschool.org/event/day-3-41/
LOCATION:PA
END:VEVENT
BEGIN:VEVENT
DTSTART;VALUE=DATE:20231130
DTEND;VALUE=DATE:20231201
DTSTAMP:20260419T224645
CREATED:20230731T121847Z
LAST-MODIFIED:20230731T121847Z
UID:7583-1701302400-1701388799@www.providentcharterschool.org
SUMMARY:Day 4
DESCRIPTION:
URL:https://www.providentcharterschool.org/event/day-4-41/
LOCATION:PA
END:VEVENT
BEGIN:VEVENT
DTSTART;VALUE=DATE:20231201
DTEND;VALUE=DATE:20231202
DTSTAMP:20260419T224645
CREATED:20230731T121948Z
LAST-MODIFIED:20230731T121948Z
UID:7584-1701388800-1701475199@www.providentcharterschool.org
SUMMARY:Day 5
DESCRIPTION:
URL:https://www.providentcharterschool.org/event/day-5-41/
LOCATION:PA
END:VEVENT
BEGIN:VEVENT
DTSTART;VALUE=DATE:20231204
DTEND;VALUE=DATE:20231205
DTSTAMP:20260419T224645
CREATED:20230731T121948Z
LAST-MODIFIED:20230731T121948Z
UID:7585-1701648000-1701734399@www.providentcharterschool.org
SUMMARY:Day 6
DESCRIPTION:
URL:https://www.providentcharterschool.org/event/day-6-41/
LOCATION:PA
END:VEVENT
BEGIN:VEVENT
DTSTART;VALUE=DATE:20231205
DTEND;VALUE=DATE:20231206
DTSTAMP:20260419T224645
CREATED:20230731T121948Z
LAST-MODIFIED:20230731T121948Z
UID:7586-1701734400-1701820799@www.providentcharterschool.org
SUMMARY:Day 1
DESCRIPTION:
URL:https://www.providentcharterschool.org/event/day-1-43/
LOCATION:PA
END:VEVENT
BEGIN:VEVENT
DTSTART;VALUE=DATE:20231206
DTEND;VALUE=DATE:20231207
DTSTAMP:20260419T224645
CREATED:20230731T121948Z
LAST-MODIFIED:20230731T121948Z
UID:7587-1701820800-1701907199@www.providentcharterschool.org
SUMMARY:Day 2
DESCRIPTION:
URL:https://www.providentcharterschool.org/event/day-2-43/
LOCATION:PA
END:VEVENT
BEGIN:VEVENT
DTSTART;VALUE=DATE:20231207
DTEND;VALUE=DATE:20231208
DTSTAMP:20260419T224645
CREATED:20230731T121948Z
LAST-MODIFIED:20230731T121948Z
UID:7588-1701907200-1701993599@www.providentcharterschool.org
SUMMARY:Day 3
DESCRIPTION:
URL:https://www.providentcharterschool.org/event/day-3-42/
LOCATION:PA
END:VEVENT
BEGIN:VEVENT
DTSTART;VALUE=DATE:20231208
DTEND;VALUE=DATE:20231209
DTSTAMP:20260419T224645
CREATED:20230323T162538Z
LAST-MODIFIED:20230323T162538Z
UID:7270-1701993600-1702079999@www.providentcharterschool.org
SUMMARY:Handmade with Love - A Maker Event
DESCRIPTION:
URL:https://www.providentcharterschool.org/event/handmade-with-love-a-maker-event/
LOCATION:PA
END:VEVENT
BEGIN:VEVENT
DTSTART;VALUE=DATE:20231208
DTEND;VALUE=DATE:20231209
DTSTAMP:20260419T224645
CREATED:20230731T122149Z
LAST-MODIFIED:20230731T122149Z
UID:7589-1701993600-1702079999@www.providentcharterschool.org
SUMMARY:Day 4
DESCRIPTION:
URL:https://www.providentcharterschool.org/event/day-4-42/
LOCATION:PA
END:VEVENT
BEGIN:VEVENT
DTSTART;VALUE=DATE:20231208
DTEND;VALUE=DATE:20231209
DTSTAMP:20260419T224645
CREATED:20230815T183659Z
LAST-MODIFIED:20230815T183659Z
UID:7763-1701993600-1702079999@www.providentcharterschool.org
SUMMARY:PBIS Dress Down Day
DESCRIPTION:
URL:https://www.providentcharterschool.org/event/pbis-dress-down-day-8/
LOCATION:PA
END:VEVENT
END:VCALENDAR