BEGIN:VCALENDAR
VERSION:2.0
PRODID:-//Provident Charter Schools - ECPv6.15.13//NONSGML v1.0//EN
CALSCALE:GREGORIAN
METHOD:PUBLISH
X-ORIGINAL-URL:https://www.providentcharterschool.org
X-WR-CALDESC:Events for Provident Charter Schools
REFRESH-INTERVAL;VALUE=DURATION:PT1H
X-Robots-Tag:noindex
X-PUBLISHED-TTL:PT1H
BEGIN:VTIMEZONE
TZID:America/New_York
BEGIN:DAYLIGHT
TZOFFSETFROM:-0500
TZOFFSETTO:-0400
TZNAME:EDT
DTSTART:20230312T070000
END:DAYLIGHT
BEGIN:STANDARD
TZOFFSETFROM:-0400
TZOFFSETTO:-0500
TZNAME:EST
DTSTART:20231105T060000
END:STANDARD
BEGIN:DAYLIGHT
TZOFFSETFROM:-0500
TZOFFSETTO:-0400
TZNAME:EDT
DTSTART:20240310T070000
END:DAYLIGHT
BEGIN:STANDARD
TZOFFSETFROM:-0400
TZOFFSETTO:-0500
TZNAME:EST
DTSTART:20241103T060000
END:STANDARD
BEGIN:DAYLIGHT
TZOFFSETFROM:-0500
TZOFFSETTO:-0400
TZNAME:EDT
DTSTART:20250309T070000
END:DAYLIGHT
BEGIN:STANDARD
TZOFFSETFROM:-0400
TZOFFSETTO:-0500
TZNAME:EST
DTSTART:20251102T060000
END:STANDARD
BEGIN:DAYLIGHT
TZOFFSETFROM:-0500
TZOFFSETTO:-0400
TZNAME:EDT
DTSTART:20260308T070000
END:DAYLIGHT
BEGIN:STANDARD
TZOFFSETFROM:-0400
TZOFFSETTO:-0500
TZNAME:EST
DTSTART:20261101T060000
END:STANDARD
END:VTIMEZONE
BEGIN:VEVENT
DTSTART;TZID=America/New_York:20241205T180000
DTEND;TZID=America/New_York:20241205T193000
DTSTAMP:20260421T044802
CREATED:20241113T224524Z
LAST-MODIFIED:20241113T224524Z
UID:8944-1733421600-1733427000@www.providentcharterschool.org
SUMMARY:Winter Family Fest @ PCS West
DESCRIPTION:
URL:https://www.providentcharterschool.org/event/winter-family-fest-pcs-west/
LOCATION:Provident Charter School West\, 200 Quigley Drive\, Baden\, PA\, 15005
END:VEVENT
BEGIN:VEVENT
DTSTART;TZID=America/New_York:20241206T073000
DTEND;TZID=America/New_York:20241206T113000
DTSTAMP:20260421T044802
CREATED:20240726T132617Z
LAST-MODIFIED:20240726T132617Z
UID:8657-1733470200-1733484600@www.providentcharterschool.org
SUMMARY:Half-Day Staff In-Service Day
DESCRIPTION:
URL:https://www.providentcharterschool.org/event/half-day-staff-in-service-day-5/
END:VEVENT
BEGIN:VEVENT
DTSTART;TZID=America/New_York:20241219T180000
DTEND;TZID=America/New_York:20241219T193000
DTSTAMP:20260421T044802
CREATED:20241113T224610Z
LAST-MODIFIED:20241113T224610Z
UID:8945-1734631200-1734636600@www.providentcharterschool.org
SUMMARY:Winter Family Fest @ PCS Central
DESCRIPTION:
URL:https://www.providentcharterschool.org/event/winter-family-fest-pcs-central/
LOCATION:Provident Charter School Central\, 1400 Troy Hill Road\, Pittsburgh\, PA\, 15212\, United States
END:VEVENT
BEGIN:VEVENT
DTSTART;TZID=America/New_York:20241220T073000
DTEND;TZID=America/New_York:20241220T113000
DTSTAMP:20260421T044802
CREATED:20240726T132617Z
LAST-MODIFIED:20240726T132617Z
UID:8658-1734679800-1734694200@www.providentcharterschool.org
SUMMARY:Half-Day Staff In-Service Day
DESCRIPTION:
URL:https://www.providentcharterschool.org/event/half-day-staff-in-service-day-6/
END:VEVENT
BEGIN:VEVENT
DTSTART;VALUE=DATE:20241223
DTEND;VALUE=DATE:20241224
DTSTAMP:20260421T044802
CREATED:20240726T132618Z
LAST-MODIFIED:20240726T132618Z
UID:8659-1734912000-1734998399@www.providentcharterschool.org
SUMMARY:Winter Break - No School
DESCRIPTION:
URL:https://www.providentcharterschool.org/event/winter-break-no-school-8/
END:VEVENT
BEGIN:VEVENT
DTSTART;VALUE=DATE:20241224
DTEND;VALUE=DATE:20241225
DTSTAMP:20260421T044802
CREATED:20240726T132618Z
LAST-MODIFIED:20240726T132618Z
UID:8660-1734998400-1735084799@www.providentcharterschool.org
SUMMARY:Winter Break - No School
DESCRIPTION:
URL:https://www.providentcharterschool.org/event/winter-break-no-school-9/
END:VEVENT
BEGIN:VEVENT
DTSTART;VALUE=DATE:20241225
DTEND;VALUE=DATE:20241226
DTSTAMP:20260421T044802
CREATED:20240726T132618Z
LAST-MODIFIED:20240726T132618Z
UID:8661-1735084800-1735171199@www.providentcharterschool.org
SUMMARY:Winter Break - No School
DESCRIPTION:
URL:https://www.providentcharterschool.org/event/winter-break-no-school-10/
END:VEVENT
BEGIN:VEVENT
DTSTART;VALUE=DATE:20241226
DTEND;VALUE=DATE:20241227
DTSTAMP:20260421T044802
CREATED:20240726T132719Z
LAST-MODIFIED:20240726T132719Z
UID:8662-1735171200-1735257599@www.providentcharterschool.org
SUMMARY:Winter Break - No School
DESCRIPTION:
URL:https://www.providentcharterschool.org/event/winter-break-no-school-11/
END:VEVENT
BEGIN:VEVENT
DTSTART;VALUE=DATE:20241227
DTEND;VALUE=DATE:20241228
DTSTAMP:20260421T044802
CREATED:20240726T132719Z
LAST-MODIFIED:20240726T132719Z
UID:8663-1735257600-1735343999@www.providentcharterschool.org
SUMMARY:Winter Break - No School
DESCRIPTION:
URL:https://www.providentcharterschool.org/event/winter-break-no-school-12/
END:VEVENT
BEGIN:VEVENT
DTSTART;VALUE=DATE:20241230
DTEND;VALUE=DATE:20241231
DTSTAMP:20260421T044802
CREATED:20240726T132720Z
LAST-MODIFIED:20240726T132720Z
UID:8664-1735516800-1735603199@www.providentcharterschool.org
SUMMARY:Winter Break - No School
DESCRIPTION:
URL:https://www.providentcharterschool.org/event/winter-break-no-school-13/
END:VEVENT
BEGIN:VEVENT
DTSTART;VALUE=DATE:20241231
DTEND;VALUE=DATE:20250101
DTSTAMP:20260421T044802
CREATED:20240726T132720Z
LAST-MODIFIED:20240726T132720Z
UID:8665-1735603200-1735689599@www.providentcharterschool.org
SUMMARY:Winter Break - No School
DESCRIPTION:
URL:https://www.providentcharterschool.org/event/winter-break-no-school-14/
END:VEVENT
BEGIN:VEVENT
DTSTART;VALUE=DATE:20250101
DTEND;VALUE=DATE:20250102
DTSTAMP:20260421T044802
CREATED:20240726T132720Z
LAST-MODIFIED:20240726T132720Z
UID:8666-1735689600-1735775999@www.providentcharterschool.org
SUMMARY:Winter Break - No School
DESCRIPTION:
URL:https://www.providentcharterschool.org/event/winter-break-no-school-15/
END:VEVENT
BEGIN:VEVENT
DTSTART;VALUE=DATE:20250106
DTEND;VALUE=DATE:20250107
DTSTAMP:20260421T044802
CREATED:20250107T165744Z
LAST-MODIFIED:20250121T002129Z
UID:9058-1736121600-1736207999@www.providentcharterschool.org
SUMMARY:Central - FID #1
DESCRIPTION:Central is closed and follows a Flexible Instruction Day
URL:https://www.providentcharterschool.org/event/central-fid/
END:VEVENT
BEGIN:VEVENT
DTSTART;VALUE=DATE:20250107
DTEND;VALUE=DATE:20250108
DTSTAMP:20260421T044802
CREATED:20250107T165910Z
LAST-MODIFIED:20250107T165910Z
UID:9059-1736208000-1736294399@www.providentcharterschool.org
SUMMARY:West 2-Hour Delay
DESCRIPTION:West is following a 2-Hour Delay schedule.
URL:https://www.providentcharterschool.org/event/west-2-hour-delay/
END:VEVENT
BEGIN:VEVENT
DTSTART;TZID=America/New_York:20250110T073000
DTEND;TZID=America/New_York:20250110T113000
DTSTAMP:20260421T044802
CREATED:20240726T132749Z
LAST-MODIFIED:20240726T132749Z
UID:8669-1736494200-1736508600@www.providentcharterschool.org
SUMMARY:Half-Day Staff In-Service Day
DESCRIPTION:
URL:https://www.providentcharterschool.org/event/half-day-staff-in-service-day-7/
END:VEVENT
BEGIN:VEVENT
DTSTART;VALUE=DATE:20250116
DTEND;VALUE=DATE:20250117
DTSTAMP:20260421T044802
CREATED:20250116T154721Z
LAST-MODIFIED:20250121T201842Z
UID:9075-1736985600-1737071999@www.providentcharterschool.org
SUMMARY:Central - FID #2
DESCRIPTION:Central is closed and follows a Flexible Instruction Day
URL:https://www.providentcharterschool.org/event/central-fid-2/
END:VEVENT
BEGIN:VEVENT
DTSTART;VALUE=DATE:20250120
DTEND;VALUE=DATE:20250121
DTSTAMP:20260421T044802
CREATED:20240726T132749Z
LAST-MODIFIED:20250116T155207Z
UID:8670-1737331200-1737417599@www.providentcharterschool.org
SUMMARY:Dr. Martin Luther King Jr. Day - No School
DESCRIPTION:
URL:https://www.providentcharterschool.org/event/dr-martin-luther-king-jr-day-no-school-2/
END:VEVENT
BEGIN:VEVENT
DTSTART;VALUE=DATE:20250121
DTEND;VALUE=DATE:20250122
DTSTAMP:20260421T044802
CREATED:20250121T001949Z
LAST-MODIFIED:20250121T002203Z
UID:9088-1737417600-1737503999@www.providentcharterschool.org
SUMMARY:West – FID #1
DESCRIPTION:West is closed and follows a Flexible Instruction Day
URL:https://www.providentcharterschool.org/event/west-fid-1/
END:VEVENT
BEGIN:VEVENT
DTSTART;VALUE=DATE:20250121
DTEND;VALUE=DATE:20250122
DTSTAMP:20260421T044802
CREATED:20250121T001903Z
LAST-MODIFIED:20250121T001958Z
UID:9087-1737417600-1737503999@www.providentcharterschool.org
SUMMARY:Central – FID #3
DESCRIPTION:Central is closed and follows a Flexible Instruction Day
URL:https://www.providentcharterschool.org/event/central-fid-3/
END:VEVENT
BEGIN:VEVENT
DTSTART;VALUE=DATE:20250122
DTEND;VALUE=DATE:20250123
DTSTAMP:20260421T044802
CREATED:20250121T145638Z
LAST-MODIFIED:20250121T145638Z
UID:9089-1737504000-1737590399@www.providentcharterschool.org
SUMMARY:Central – FID #4
DESCRIPTION:Central is closed and follows a Flexible Instruction Day
URL:https://www.providentcharterschool.org/event/central-fid-4/
END:VEVENT
BEGIN:VEVENT
DTSTART;VALUE=DATE:20250122
DTEND;VALUE=DATE:20250123
DTSTAMP:20260421T044802
CREATED:20250121T201802Z
LAST-MODIFIED:20250121T201802Z
UID:9094-1737504000-1737590399@www.providentcharterschool.org
SUMMARY:West – FID #2
DESCRIPTION:West is closed and follows a Flexible Instruction Day
URL:https://www.providentcharterschool.org/event/west-fid-2/
END:VEVENT
BEGIN:VEVENT
DTSTART;TZID=America/New_York:20250129T183000
DTEND;TZID=America/New_York:20250129T183000
DTSTAMP:20260421T044802
CREATED:20250118T164314Z
LAST-MODIFIED:20250118T164314Z
UID:9084-1738175400-1738175400@www.providentcharterschool.org
SUMMARY:Family Movie Night\, “The Wild Robot” @ PCS West
DESCRIPTION:
URL:https://www.providentcharterschool.org/event/family-movie-night-the-wild-robot-pcs-west/
LOCATION:Provident Charter School West\, 200 Quigley Drive\, Baden\, PA\, 15005
END:VEVENT
BEGIN:VEVENT
DTSTART;TZID=America/New_York:20250131T073000
DTEND;TZID=America/New_York:20250131T113000
DTSTAMP:20260421T044802
CREATED:20240726T132750Z
LAST-MODIFIED:20240726T132750Z
UID:8671-1738308600-1738323000@www.providentcharterschool.org
SUMMARY:Half-Day Staff In-Service Day
DESCRIPTION:
URL:https://www.providentcharterschool.org/event/half-day-staff-in-service-day-8/
END:VEVENT
BEGIN:VEVENT
DTSTART;TZID=America/New_York:20250214T073000
DTEND;TZID=America/New_York:20250214T113000
DTSTAMP:20260421T044802
CREATED:20240726T132751Z
LAST-MODIFIED:20240726T132751Z
UID:8672-1739518200-1739532600@www.providentcharterschool.org
SUMMARY:Half-Day Staff In-Service Day
DESCRIPTION:
URL:https://www.providentcharterschool.org/event/half-day-staff-in-service-day-9/
END:VEVENT
BEGIN:VEVENT
DTSTART;VALUE=DATE:20250217
DTEND;VALUE=DATE:20250218
DTSTAMP:20260421T044802
CREATED:20240726T132751Z
LAST-MODIFIED:20240726T132751Z
UID:8673-1739750400-1739836799@www.providentcharterschool.org
SUMMARY:Presidents' Day - No School
DESCRIPTION:
URL:https://www.providentcharterschool.org/event/presidents-day-no-school-2/
END:VEVENT
BEGIN:VEVENT
DTSTART;TZID=America/New_York:20250223T140000
DTEND;TZID=America/New_York:20250223T140000
DTSTAMP:20260421T044802
CREATED:20250117T124640Z
LAST-MODIFIED:20250117T125030Z
UID:9079-1740319200-1740319200@www.providentcharterschool.org
SUMMARY:PCS Central Presents: Legally Blonde\, Jr. The Musical
DESCRIPTION:Performances at 2:00 PM and 6:00 PM
URL:https://www.providentcharterschool.org/event/pcs-central-presents-legally-blonde-jr-the-musical/
LOCATION:Greater Pittsburgh Masonic Center\, 3579 Masonic Way\, Pittsburgh\, PA\, 15237\, United States
END:VEVENT
BEGIN:VEVENT
DTSTART;TZID=America/New_York:20250223T180000
DTEND;TZID=America/New_York:20250223T180000
DTSTAMP:20260421T044802
CREATED:20250117T125220Z
LAST-MODIFIED:20250117T125220Z
UID:9081-1740333600-1740333600@www.providentcharterschool.org
SUMMARY:PCS Central Presents: Legally Blonde\, Jr. The Musical
DESCRIPTION:Performances at 2:00 PM and 6:00 PM
URL:https://www.providentcharterschool.org/event/pcs-central-presents-legally-blonde-jr-the-musical-2/
LOCATION:Greater Pittsburgh Masonic Center\, 3579 Masonic Way\, Pittsburgh\, PA\, 15237\, United States
END:VEVENT
BEGIN:VEVENT
DTSTART;TZID=America/New_York:20250225T180000
DTEND;TZID=America/New_York:20250225T190000
DTSTAMP:20260421T044802
CREATED:20250129T152625Z
LAST-MODIFIED:20250129T152802Z
UID:9116-1740506400-1740510000@www.providentcharterschool.org
SUMMARY:Living and Thriving with Learning Differences
DESCRIPTION:A virtual discussion for parents and caregivers with PCS Central’s Guidance Counselor – Mr. Greg
URL:https://www.providentcharterschool.org/event/living-and-thriving-with-learning-differences/
END:VEVENT
BEGIN:VEVENT
DTSTART;TZID=America/New_York:20250227T180000
DTEND;TZID=America/New_York:20250227T190000
DTSTAMP:20260421T044802
CREATED:20250129T160209Z
LAST-MODIFIED:20250226T160106Z
UID:9119-1740679200-1740682800@www.providentcharterschool.org
SUMMARY:Family Paint Night @ PCS West
DESCRIPTION:
URL:https://www.providentcharterschool.org/event/family-paint-night-pcs-west/
LOCATION:Provident Charter School West\, 200 Quigley Drive\, Baden\, PA\, 15005
ATTACH;FMTTYPE=image/png:https://www.providentcharterschool.org/wp-content/uploads/2025/02/PCS-West-Family-Paint-Night-2025.02.27-v2.png
END:VEVENT
BEGIN:VEVENT
DTSTART;VALUE=DATE:20250303
DTEND;VALUE=DATE:20250304
DTSTAMP:20260421T044802
CREATED:20250303T134733Z
LAST-MODIFIED:20250303T134826Z
UID:9246-1740960000-1741046399@www.providentcharterschool.org
SUMMARY:Read Across America Week
DESCRIPTION:Monday – Dress as your future career
URL:https://www.providentcharterschool.org/event/read-across-america-week/
END:VEVENT
END:VCALENDAR