BEGIN:VCALENDAR
VERSION:2.0
PRODID:-//Provident Charter Schools - ECPv6.15.13//NONSGML v1.0//EN
CALSCALE:GREGORIAN
METHOD:PUBLISH
X-ORIGINAL-URL:https://www.providentcharterschool.org
X-WR-CALDESC:Events for Provident Charter Schools
REFRESH-INTERVAL;VALUE=DURATION:PT1H
X-Robots-Tag:noindex
X-PUBLISHED-TTL:PT1H
BEGIN:VTIMEZONE
TZID:America/New_York
BEGIN:DAYLIGHT
TZOFFSETFROM:-0500
TZOFFSETTO:-0400
TZNAME:EDT
DTSTART:20240310T070000
END:DAYLIGHT
BEGIN:STANDARD
TZOFFSETFROM:-0400
TZOFFSETTO:-0500
TZNAME:EST
DTSTART:20241103T060000
END:STANDARD
BEGIN:DAYLIGHT
TZOFFSETFROM:-0500
TZOFFSETTO:-0400
TZNAME:EDT
DTSTART:20250309T070000
END:DAYLIGHT
BEGIN:STANDARD
TZOFFSETFROM:-0400
TZOFFSETTO:-0500
TZNAME:EST
DTSTART:20251102T060000
END:STANDARD
BEGIN:DAYLIGHT
TZOFFSETFROM:-0500
TZOFFSETTO:-0400
TZNAME:EDT
DTSTART:20260308T070000
END:DAYLIGHT
BEGIN:STANDARD
TZOFFSETFROM:-0400
TZOFFSETTO:-0500
TZNAME:EST
DTSTART:20261101T060000
END:STANDARD
END:VTIMEZONE
BEGIN:VEVENT
DTSTART;VALUE=DATE:20250507
DTEND;VALUE=DATE:20250508
DTSTAMP:20260422T143139
CREATED:20240729T141939Z
LAST-MODIFIED:20240729T141939Z
UID:8733-1746576000-1746662399@www.providentcharterschool.org
SUMMARY:PSSA Testing Window (3rd - 8th-Grade)
DESCRIPTION:
URL:https://www.providentcharterschool.org/event/pssa-testing-window-3rd-8th-grade-41/
END:VEVENT
BEGIN:VEVENT
DTSTART;VALUE=DATE:20250521
DTEND;VALUE=DATE:20250522
DTSTAMP:20260422T143139
CREATED:20240726T133146Z
LAST-MODIFIED:20240726T133146Z
UID:8697-1747785600-1747871999@www.providentcharterschool.org
SUMMARY:Algebra Keystones (Algebra Students)
DESCRIPTION:
URL:https://www.providentcharterschool.org/event/algebra-keystones-algebra-students-2/
END:VEVENT
BEGIN:VEVENT
DTSTART;TZID=America/New_York:20250521T180000
DTEND;TZID=America/New_York:20250521T193000
DTSTAMP:20260422T143139
CREATED:20250319T142329Z
LAST-MODIFIED:20250408T212025Z
UID:9324-1747850400-1747855800@www.providentcharterschool.org
SUMMARY:End of Year Celebration @ PCS Central (Grades 2-4)
DESCRIPTION:
URL:https://www.providentcharterschool.org/event/end-of-year-celebration-pcs-central-grades-2-4/
LOCATION:Provident Charter School Central\, 1400 Troy Hill Road\, Pittsburgh\, PA\, 15212\, United States
END:VEVENT
BEGIN:VEVENT
DTSTART;VALUE=DATE:20250523
DTEND;VALUE=DATE:20250524
DTSTAMP:20260422T143139
CREATED:20250319T142422Z
LAST-MODIFIED:20250319T142422Z
UID:9325-1747958400-1748044799@www.providentcharterschool.org
SUMMARY:Field Day @ PCS West
DESCRIPTION:
URL:https://www.providentcharterschool.org/event/field-day-pcs-west/
LOCATION:Provident Charter School West\, 200 Quigley Drive\, Baden\, PA\, 15005
END:VEVENT
BEGIN:VEVENT
DTSTART;TZID=America/New_York:20250523T073000
DTEND;TZID=America/New_York:20250523T113000
DTSTAMP:20260422T143139
CREATED:20240726T133147Z
LAST-MODIFIED:20240726T133147Z
UID:8698-1747985400-1747999800@www.providentcharterschool.org
SUMMARY:Half-Day Staff In-Service Day
DESCRIPTION:
URL:https://www.providentcharterschool.org/event/half-day-staff-in-service-day-12/
END:VEVENT
BEGIN:VEVENT
DTSTART;VALUE=DATE:20250526
DTEND;VALUE=DATE:20250527
DTSTAMP:20260422T143139
CREATED:20240726T133147Z
LAST-MODIFIED:20240726T133147Z
UID:8699-1748217600-1748303999@www.providentcharterschool.org
SUMMARY:Memorial Day - No School
DESCRIPTION:
URL:https://www.providentcharterschool.org/event/memorial-day-no-school-3/
END:VEVENT
BEGIN:VEVENT
DTSTART;TZID=America/New_York:20250528T180000
DTEND;TZID=America/New_York:20250528T193000
DTSTAMP:20260422T143139
CREATED:20250319T142526Z
LAST-MODIFIED:20250408T212007Z
UID:9326-1748455200-1748460600@www.providentcharterschool.org
SUMMARY:End of Year Celebration @ PCS Central (Grades 5-8)
DESCRIPTION:
URL:https://www.providentcharterschool.org/event/end-of-year-celebration-pcs-central-grades-5-8/
LOCATION:Provident Charter School Central\, 1400 Troy Hill Road\, Pittsburgh\, PA\, 15212\, United States
END:VEVENT
BEGIN:VEVENT
DTSTART;VALUE=DATE:20250602
DTEND;VALUE=DATE:20250603
DTSTAMP:20260422T143139
CREATED:20250319T142817Z
LAST-MODIFIED:20250319T142817Z
UID:9327-1748822400-1748908799@www.providentcharterschool.org
SUMMARY:Field Day @ PCS Central
DESCRIPTION:
URL:https://www.providentcharterschool.org/event/field-day-pcs-central/
LOCATION:Provident Charter School Central\, 1400 Troy Hill Road\, Pittsburgh\, PA\, 15212\, United States
END:VEVENT
BEGIN:VEVENT
DTSTART;TZID=America/New_York:20250603T180000
DTEND;TZID=America/New_York:20250603T193000
DTSTAMP:20260422T143139
CREATED:20250319T142859Z
LAST-MODIFIED:20250319T142859Z
UID:9328-1748973600-1748979000@www.providentcharterschool.org
SUMMARY:End of Year Celebration @ PCS West
DESCRIPTION:
URL:https://www.providentcharterschool.org/event/end-of-year-celebration-pcs-west/
LOCATION:Provident Charter School West\, 200 Quigley Drive\, Baden\, PA\, 15005
END:VEVENT
BEGIN:VEVENT
DTSTART;TZID=America/New_York:20250605T073000
DTEND;TZID=America/New_York:20250605T113000
DTSTAMP:20260422T143139
CREATED:20240726T133148Z
LAST-MODIFIED:20240726T133148Z
UID:8700-1749108600-1749123000@www.providentcharterschool.org
SUMMARY:Last Day/Half-Day for Students
DESCRIPTION:
URL:https://www.providentcharterschool.org/event/last-day-half-day-for-students/
END:VEVENT
BEGIN:VEVENT
DTSTART;TZID=America/New_York:20250606T073000
DTEND;TZID=America/New_York:20250606T153000
DTSTAMP:20260422T143139
CREATED:20240726T133344Z
LAST-MODIFIED:20240726T133344Z
UID:8701-1749195000-1749223800@www.providentcharterschool.org
SUMMARY:Staff Clerical Day (No Students)
DESCRIPTION:
URL:https://www.providentcharterschool.org/event/staff-clerical-day-no-students-2/
END:VEVENT
BEGIN:VEVENT
DTSTART;VALUE=DATE:20250619
DTEND;VALUE=DATE:20250620
DTSTAMP:20260422T143139
CREATED:20240726T133345Z
LAST-MODIFIED:20240726T133345Z
UID:8702-1750291200-1750377599@www.providentcharterschool.org
SUMMARY:Juneteenth - No Staff to Report
DESCRIPTION:
URL:https://www.providentcharterschool.org/event/juneteenth-no-staff-to-report-2/
END:VEVENT
BEGIN:VEVENT
DTSTART;VALUE=DATE:20250704
DTEND;VALUE=DATE:20250705
DTSTAMP:20260422T143139
CREATED:20250915T174643Z
LAST-MODIFIED:20250915T174643Z
UID:9773-1751587200-1751673599@www.providentcharterschool.org
SUMMARY:4th of July Holiday - No Staff to Report
DESCRIPTION:
URL:https://www.providentcharterschool.org/event/4th-of-july-holiday-no-staff-to-report-3/
END:VEVENT
BEGIN:VEVENT
DTSTART;TZID=America/New_York:20250717T200000
DTEND;TZID=America/New_York:20250717T220000
DTSTAMP:20260422T143139
CREATED:20250705T153927Z
LAST-MODIFIED:20250705T154118Z
UID:9584-1752782400-1752789600@www.providentcharterschool.org
SUMMARY:Dog Man - FREE Family Movie Night @PCS West
DESCRIPTION:
URL:https://www.providentcharterschool.org/event/dog-man-free-family-movie-night-pcs-west/
LOCATION:Provident Charter School West\, 200 Quigley Drive\, Baden\, PA\, 15005
END:VEVENT
BEGIN:VEVENT
DTSTART;TZID=America/New_York:20250804T183000
DTEND;TZID=America/New_York:20250804T193000
DTSTAMP:20260422T143139
CREATED:20250724T145219Z
LAST-MODIFIED:20250724T145219Z
UID:9628-1754332200-1754335800@www.providentcharterschool.org
SUMMARY:Virtual Back to School Information Night (PCS Central)
DESCRIPTION: 
URL:https://www.providentcharterschool.org/event/virtual-back-to-school-information-night-pcs-central/
END:VEVENT
BEGIN:VEVENT
DTSTART;TZID=America/New_York:20250805T183000
DTEND;TZID=America/New_York:20250805T193000
DTSTAMP:20260422T143139
CREATED:20250724T145508Z
LAST-MODIFIED:20250724T145508Z
UID:9629-1754418600-1754422200@www.providentcharterschool.org
SUMMARY:Virtual Back to School Information Night (PCS West)
DESCRIPTION: 
URL:https://www.providentcharterschool.org/event/virtual-back-to-school-information-night-pcs-west/
END:VEVENT
BEGIN:VEVENT
DTSTART;TZID=America/New_York:20250806T090000
DTEND;TZID=America/New_York:20250808T150000
DTSTAMP:20260422T143139
CREATED:20250707T175219Z
LAST-MODIFIED:20250707T175219Z
UID:9587-1754470800-1754665200@www.providentcharterschool.org
SUMMARY:Wilson Reading System® Introductory Course @ PCS Central
DESCRIPTION:
URL:https://www.providentcharterschool.org/event/wilson-reading-system-introductory-course-pcs-central/
LOCATION:Provident Charter School Central\, 1400 Troy Hill Road\, Pittsburgh\, PA\, 15212\, United States
END:VEVENT
BEGIN:VEVENT
DTSTART;VALUE=DATE:20250813
DTEND;VALUE=DATE:20250814
DTSTAMP:20260422T143139
CREATED:20250915T174643Z
LAST-MODIFIED:20250915T174643Z
UID:9774-1755043200-1755129599@www.providentcharterschool.org
SUMMARY:New Staff In-Service Day (No Students)
DESCRIPTION:
URL:https://www.providentcharterschool.org/event/new-staff-in-service-day-no-students-4/
END:VEVENT
BEGIN:VEVENT
DTSTART;VALUE=DATE:20250814
DTEND;VALUE=DATE:20250821
DTSTAMP:20260422T143139
CREATED:20250915T174643Z
LAST-MODIFIED:20250915T174643Z
UID:9775-1755129600-1755734399@www.providentcharterschool.org
SUMMARY:Staff In-Service Days (No Students)
DESCRIPTION:
URL:https://www.providentcharterschool.org/event/staff-in-service-days-no-students/
END:VEVENT
BEGIN:VEVENT
DTSTART;TZID=America/New_York:20250818T150000
DTEND;TZID=America/New_York:20250818T190000
DTSTAMP:20260422T143139
CREATED:20250723T131915Z
LAST-MODIFIED:20250723T131915Z
UID:9622-1755529200-1755543600@www.providentcharterschool.org
SUMMARY:Meet the Teacher Open House @ Central & West
DESCRIPTION: 
URL:https://www.providentcharterschool.org/event/meet-the-teacher-open-house-central-west/
END:VEVENT
BEGIN:VEVENT
DTSTART;VALUE=DATE:20250821
DTEND;VALUE=DATE:20250822
DTSTAMP:20260422T143139
CREATED:20250915T174644Z
LAST-MODIFIED:20250915T174644Z
UID:9776-1755734400-1755820799@www.providentcharterschool.org
SUMMARY:First Day of School
DESCRIPTION:
URL:https://www.providentcharterschool.org/event/first-day-of-school-6/
END:VEVENT
BEGIN:VEVENT
DTSTART;TZID=America/New_York:20250821T074500
DTEND;TZID=America/New_York:20250821T153000
DTSTAMP:20260422T143139
CREATED:20250723T132050Z
LAST-MODIFIED:20250723T132050Z
UID:9623-1755762300-1755790200@www.providentcharterschool.org
SUMMARY:First Day of School 2025
DESCRIPTION: 
URL:https://www.providentcharterschool.org/event/first-day-of-school-2025/
END:VEVENT
BEGIN:VEVENT
DTSTART;TZID=America/New_York:20250823T170000
DTEND;TZID=America/New_York:20250823T190000
DTSTAMP:20260422T143139
CREATED:20250818T125407Z
LAST-MODIFIED:20250818T132914Z
UID:9689-1755968400-1755975600@www.providentcharterschool.org
SUMMARY:Back to School Bash @ PCS West
DESCRIPTION: 
URL:https://www.providentcharterschool.org/event/back-to-school-bash-pcs-west/
LOCATION:Provident Charter School West\, 200 Quigley Drive\, Baden\, PA\, 15005
END:VEVENT
BEGIN:VEVENT
DTSTART;VALUE=DATE:20250901
DTEND;VALUE=DATE:20250902
DTSTAMP:20260422T143139
CREATED:20250915T174644Z
LAST-MODIFIED:20250915T174644Z
UID:9777-1756684800-1756771199@www.providentcharterschool.org
SUMMARY:Labor Day - No School
DESCRIPTION:
URL:https://www.providentcharterschool.org/event/labor-day-no-school-5/
END:VEVENT
BEGIN:VEVENT
DTSTART;VALUE=DATE:20250912
DTEND;VALUE=DATE:20250913
DTSTAMP:20260422T143139
CREATED:20250915T174647Z
LAST-MODIFIED:20250915T174647Z
UID:9778-1757635200-1757721599@www.providentcharterschool.org
SUMMARY:Half-Day Staff In-Service Day
DESCRIPTION:
URL:https://www.providentcharterschool.org/event/half-day-staff-in-service-day-13/
END:VEVENT
BEGIN:VEVENT
DTSTART;TZID=America/New_York:20250912T173000
DTEND;TZID=America/New_York:20250912T193000
DTSTAMP:20260422T143139
CREATED:20250828T195144Z
LAST-MODIFIED:20250910T184147Z
UID:9737-1757698200-1757705400@www.providentcharterschool.org
SUMMARY:Rollers Skating Party @ PCS Central
DESCRIPTION:Rollers Skating Party\nCentral \n\n\n\nDate: Friday\, September 12\, 2025\nTime: 5:30pm – 7:30pm\nOverview: Please join us for a Back-to-School Celebration from 5:30–7:30 PM on Friday\, September 12th at PCS Central! PGH SK8 will be transforming our gym into a roller rink for an evening of skating fun\, and we’ll also have ice cream to enjoy together.\n\n\n\n\nSkates will be available to borrow\, or you may bring your own.\nThis is a free event for all family members\, but parents/caregivers must stay with their child(ren) throughout the evening.\nThere is a limit of 50 participants per skating time slot\, so advance registration is required.\nRegistration closes September 9th. Please scan the QR code to sign up.\nEven if you’re unsure about skating\, we encourage you to fill out the waiver and come give it a try!\n\n\n\n**Skates will be available for free\, or you may bring your own. Rollerblades are welcome\, but for safety reasons no bikes\, scooters\, or skateboards are permitted. \nWe can’t wait to kick off a great school year with our PCS families. \n\nRegistration/Waiver: https://waiver.smartwaiver.com/e/5V6zj8eZuFzJJsZHQHYCFR\n\n\n\n\n\n\n\n\n\n\nTime Slot Sign Up: https://www.signupgenius.com/go/10C0B48A4AB2FABF8C43-58403641-provident
URL:https://www.providentcharterschool.org/event/rollers-skating-party-friday-september-12-2025/
LOCATION:Provident Charter School Central\, 1400 Troy Hill Road\, Pittsburgh\, PA\, 15212\, United States
END:VEVENT
BEGIN:VEVENT
DTSTART;TZID=America/New_York:20250917T180000
DTEND;TZID=America/New_York:20250917T203000
DTSTAMP:20260422T143139
CREATED:20250823T211650Z
LAST-MODIFIED:20250915T163541Z
UID:9710-1758132000-1758141000@www.providentcharterschool.org
SUMMARY:Dyslexia Simulation @ PCS Central
DESCRIPTION:Dyslexia Simulation\nOpen To The Public\nPCS Central \n\n\n\nDate: Wednesday\, September 17\, 2025\nTime: 6:00pm – 8:30pm\nLocation: PCS Central\, 1400 Troy Hill Road\, Pittsburgh\, PA 15212\nOverview: This powerful simulation will open your eyes to the daily struggles children can experience. It starts with a brief discussion of dyslexia\, including the neurological basis\, demographics\, warning signs\, and interventions. Participants will then take part in simulated activities that mimic the experiences and processing of those with dyslexia. A variety of topics are covered including reading\, spelling\, auditory processing\, visual motor\, and challenges with math computation.\nRegistration Link: https://forms.gle/yVD7a7pBPStUXFLo9
URL:https://www.providentcharterschool.org/event/dyslexia-simulation-wednesday-september-17-2025/
LOCATION:Provident Charter School Central\, 1400 Troy Hill Road\, Pittsburgh\, PA\, 15212\, United States
END:VEVENT
BEGIN:VEVENT
DTSTART;TZID=America/New_York:20250925T183000
DTEND;TZID=America/New_York:20250925T193000
DTSTAMP:20260422T143139
CREATED:20250823T211757Z
LAST-MODIFIED:20250915T163520Z
UID:9711-1758825000-1758828600@www.providentcharterschool.org
SUMMARY:Ice Cream Social @ PCS West
DESCRIPTION:Ice Cream Social\nFor PCS West Staff and Families\nPCS West \n\n\n\nDate: Thursday\, September 25\, 2025\nTime: 6:30pm – 7:30pm\nLocation: PCS West\, 200 Quigley Drive\, Baden PA 15005\nOverview: Start the school year with something sweet! This event is a fun and casual way for new and returning families to meet and mingle. Enjoy ice cream\, activities for the kids\, and a special welcome message from our CEO and Principal. It’s a great chance to connect with other families and get excited for the year ahead!\nRegistration Link: https://forms.gle/9NmG8XY69hACi5uj6
URL:https://www.providentcharterschool.org/event/ice-cream-social-thursday-september-25-2025/
LOCATION:Provident Charter School West\, 200 Quigley Drive\, Baden\, PA\, 15005
END:VEVENT
BEGIN:VEVENT
DTSTART;TZID=America/New_York:20251001T130000
DTEND;TZID=America/New_York:20251001T170000
DTSTAMP:20260422T143139
CREATED:20250915T163044Z
LAST-MODIFIED:20250915T163044Z
UID:9769-1759323600-1759338000@www.providentcharterschool.org
SUMMARY:Pathways Vaccine Clinic @ PCS Central
DESCRIPTION:Pathways Vaccine Clinic\nFor PCS Central Staff and Families\nPCS Central \n\n\n\nDate: Wednesday\, October 1\, 2025\nTime: 1:00pm – 5:00pm\nOverview: Provident Charter School Central will host a Vaccine Clinic for staff\, students\, and their families on Wednesday\, October 1st from 1:00pm-5:00pm. There are 2 ways to register: online or paper. Online registration is preferred and strongly encouraged.\n\n\n\nVaccines that will be offered this year:  \n\n\n\nFlu\nHigh Dose Flu (for ages 65 and older)\nCOVID-19 (12 years and older)\nRSV (75 years and older)\nShingles (does 1 and dose 2)\nPneumonia\nT-dap\nMeningitis\nHepatitis B\nMMR\nPolio\nVaricella\n\n\n\nIf you request any other vaccinations\, Pathways Wellness Program will contact you directly if there is an out-of-pocket expense due to copays or deductibles. \nOnline Registration: here is the registration link where you can sign up to receive vaccines. Once you click on the link\, you will have the option to choose from a variety of vaccines that will be offered. The last day for online registration will be 9/22/2025. The link will close after that date so be sure to sign up before then.  \nPathways Wellness will collect all insurance information prior to the clinic. If you do not have insurance you may choose to pay the cash rate for the immunization – here is the Cash Rate Fee Schedule. The Pathways Wellness staff will bring preprinted consent forms for you to sign on site.  Most insurances cover the standard flu shot. \n*Additionally\, Pathways Wellness can help families and children obtain affordable health insurance.  PA has several programs that ensure coverage\, in particular\, for children. Contact Liz Hagan Kanche Liz@PathwaysWellnessProgram.com or by phone at 412-818-2328 for more information. \nPaper Registration: paper registration is welcome by completing the following form(s) \n\n\n\nPatient Walk In Consent Form (for anyone 18 years of age or older receiving vaccines)\nWalk In Minor Consent Form (for anyone under the age of 18 receiving vaccines; must be signed by parent or legal guardian)
URL:https://www.providentcharterschool.org/event/pathways-vaccine-clinic-pcs-central-wednesday-october-1-2025/
LOCATION:Provident Charter School Central\, 1400 Troy Hill Road\, Pittsburgh\, PA\, 15212\, United States
END:VEVENT
BEGIN:VEVENT
DTSTART;TZID=America/New_York:20251009T180000
DTEND;TZID=America/New_York:20251009T203000
DTSTAMP:20260422T143139
CREATED:20250823T212028Z
LAST-MODIFIED:20250915T163615Z
UID:9713-1760032800-1760041800@www.providentcharterschool.org
SUMMARY:Dyslexia Simulation @ PCS West
DESCRIPTION:Dyslexia Simulation\nOpen To The Public\nPCS West \n\n\n\nDate: Thursday\, October 9\, 2025\nTime: 6:00pm – 8:30pm\nLocation: PCS West\, 200 Quigley Drive\, Baden\, PA 15005\nOverview: This powerful simulation will open your eyes to the daily struggles children can experience. It starts with a brief discussion of dyslexia\, including the neurological basis\, demographics\, warning signs\, and interventions. Participants will then take part in simulated activities that mimic the experiences and processing of those with dyslexia. A variety of topics are covered including reading\, spelling\, auditory processing\, visual motor\, and challenges with math computation.\nRegistration Link: https://forms.gle/3iHsSSsxMeGh27d27
URL:https://www.providentcharterschool.org/event/dyslexia-simulation-thursday-october-9-2025/
LOCATION:Provident Charter School West\, 200 Quigley Drive\, Baden\, PA\, 15005
END:VEVENT
END:VCALENDAR