BEGIN:VCALENDAR
VERSION:2.0
PRODID:-//Provident Charter Schools - ECPv6.15.13//NONSGML v1.0//EN
CALSCALE:GREGORIAN
METHOD:PUBLISH
X-WR-CALNAME:Provident Charter Schools
X-ORIGINAL-URL:https://www.providentcharterschool.org
X-WR-CALDESC:Events for Provident Charter Schools
REFRESH-INTERVAL;VALUE=DURATION:PT1H
X-Robots-Tag:noindex
X-PUBLISHED-TTL:PT1H
BEGIN:VTIMEZONE
TZID:America/New_York
BEGIN:DAYLIGHT
TZOFFSETFROM:-0500
TZOFFSETTO:-0400
TZNAME:EDT
DTSTART:20240310T070000
END:DAYLIGHT
BEGIN:STANDARD
TZOFFSETFROM:-0400
TZOFFSETTO:-0500
TZNAME:EST
DTSTART:20241103T060000
END:STANDARD
BEGIN:DAYLIGHT
TZOFFSETFROM:-0500
TZOFFSETTO:-0400
TZNAME:EDT
DTSTART:20250309T070000
END:DAYLIGHT
BEGIN:STANDARD
TZOFFSETFROM:-0400
TZOFFSETTO:-0500
TZNAME:EST
DTSTART:20251102T060000
END:STANDARD
BEGIN:DAYLIGHT
TZOFFSETFROM:-0500
TZOFFSETTO:-0400
TZNAME:EDT
DTSTART:20260308T070000
END:DAYLIGHT
BEGIN:STANDARD
TZOFFSETFROM:-0400
TZOFFSETTO:-0500
TZNAME:EST
DTSTART:20261101T060000
END:STANDARD
END:VTIMEZONE
BEGIN:VEVENT
DTSTART;VALUE=DATE:20250501
DTEND;VALUE=DATE:20250502
DTSTAMP:20260421T043654
CREATED:20240729T141645Z
LAST-MODIFIED:20240729T141936Z
UID:8725-1746057600-1746143999@www.providentcharterschool.org
SUMMARY:PSSA Testing Window (3rd - 8th-Grade)
DESCRIPTION:
URL:https://www.providentcharterschool.org/event/pssa-testing-window-3rd-8th-grade-35/
END:VEVENT
BEGIN:VEVENT
DTSTART;VALUE=DATE:20250502
DTEND;VALUE=DATE:20250503
DTSTAMP:20260421T043654
CREATED:20240729T141645Z
LAST-MODIFIED:20240729T141936Z
UID:8726-1746144000-1746230399@www.providentcharterschool.org
SUMMARY:PSSA Testing Window (3rd - 8th-Grade)
DESCRIPTION:
URL:https://www.providentcharterschool.org/event/pssa-testing-window-3rd-8th-grade-36/
END:VEVENT
BEGIN:VEVENT
DTSTART;VALUE=DATE:20250505
DTEND;VALUE=DATE:20250506
DTSTAMP:20260421T043654
CREATED:20240729T141937Z
LAST-MODIFIED:20240729T141937Z
UID:8732-1746403200-1746489599@www.providentcharterschool.org
SUMMARY:PSSA Testing Window (3rd - 8th-Grade)
DESCRIPTION:
URL:https://www.providentcharterschool.org/event/pssa-testing-window-3rd-8th-grade-40/
END:VEVENT
BEGIN:VEVENT
DTSTART;VALUE=DATE:20250506
DTEND;VALUE=DATE:20250507
DTSTAMP:20260421T043654
CREATED:20240729T141646Z
LAST-MODIFIED:20240729T141937Z
UID:8728-1746489600-1746575999@www.providentcharterschool.org
SUMMARY:PSSA Testing Window (3rd - 8th-Grade)
DESCRIPTION:
URL:https://www.providentcharterschool.org/event/pssa-testing-window-3rd-8th-grade-38/
END:VEVENT
BEGIN:VEVENT
DTSTART;VALUE=DATE:20250507
DTEND;VALUE=DATE:20250508
DTSTAMP:20260421T043654
CREATED:20240729T141939Z
LAST-MODIFIED:20240729T141939Z
UID:8733-1746576000-1746662399@www.providentcharterschool.org
SUMMARY:PSSA Testing Window (3rd - 8th-Grade)
DESCRIPTION:
URL:https://www.providentcharterschool.org/event/pssa-testing-window-3rd-8th-grade-41/
END:VEVENT
BEGIN:VEVENT
DTSTART;VALUE=DATE:20250521
DTEND;VALUE=DATE:20250522
DTSTAMP:20260421T043654
CREATED:20240726T133146Z
LAST-MODIFIED:20240726T133146Z
UID:8697-1747785600-1747871999@www.providentcharterschool.org
SUMMARY:Algebra Keystones (Algebra Students)
DESCRIPTION:
URL:https://www.providentcharterschool.org/event/algebra-keystones-algebra-students-2/
END:VEVENT
BEGIN:VEVENT
DTSTART;TZID=America/New_York:20250521T180000
DTEND;TZID=America/New_York:20250521T193000
DTSTAMP:20260421T043654
CREATED:20250319T142329Z
LAST-MODIFIED:20250408T212025Z
UID:9324-1747850400-1747855800@www.providentcharterschool.org
SUMMARY:End of Year Celebration @ PCS Central (Grades 2-4)
DESCRIPTION:
URL:https://www.providentcharterschool.org/event/end-of-year-celebration-pcs-central-grades-2-4/
LOCATION:Provident Charter School Central\, 1400 Troy Hill Road\, Pittsburgh\, PA\, 15212\, United States
END:VEVENT
BEGIN:VEVENT
DTSTART;VALUE=DATE:20250523
DTEND;VALUE=DATE:20250524
DTSTAMP:20260421T043654
CREATED:20250319T142422Z
LAST-MODIFIED:20250319T142422Z
UID:9325-1747958400-1748044799@www.providentcharterschool.org
SUMMARY:Field Day @ PCS West
DESCRIPTION:
URL:https://www.providentcharterschool.org/event/field-day-pcs-west/
LOCATION:Provident Charter School West\, 200 Quigley Drive\, Baden\, PA\, 15005
END:VEVENT
BEGIN:VEVENT
DTSTART;TZID=America/New_York:20250523T073000
DTEND;TZID=America/New_York:20250523T113000
DTSTAMP:20260421T043654
CREATED:20240726T133147Z
LAST-MODIFIED:20240726T133147Z
UID:8698-1747985400-1747999800@www.providentcharterschool.org
SUMMARY:Half-Day Staff In-Service Day
DESCRIPTION:
URL:https://www.providentcharterschool.org/event/half-day-staff-in-service-day-12/
END:VEVENT
BEGIN:VEVENT
DTSTART;VALUE=DATE:20250526
DTEND;VALUE=DATE:20250527
DTSTAMP:20260421T043654
CREATED:20240726T133147Z
LAST-MODIFIED:20240726T133147Z
UID:8699-1748217600-1748303999@www.providentcharterschool.org
SUMMARY:Memorial Day - No School
DESCRIPTION:
URL:https://www.providentcharterschool.org/event/memorial-day-no-school-3/
END:VEVENT
BEGIN:VEVENT
DTSTART;TZID=America/New_York:20250528T180000
DTEND;TZID=America/New_York:20250528T193000
DTSTAMP:20260421T043654
CREATED:20250319T142526Z
LAST-MODIFIED:20250408T212007Z
UID:9326-1748455200-1748460600@www.providentcharterschool.org
SUMMARY:End of Year Celebration @ PCS Central (Grades 5-8)
DESCRIPTION:
URL:https://www.providentcharterschool.org/event/end-of-year-celebration-pcs-central-grades-5-8/
LOCATION:Provident Charter School Central\, 1400 Troy Hill Road\, Pittsburgh\, PA\, 15212\, United States
END:VEVENT
END:VCALENDAR